BEGIN:VCALENDAR
VERSION:2.0
PRODID:-//ChamberMaster//Event Calendar 2.0//EN
METHOD:PUBLISH
X-PUBLISHED-TTL:P3D
REFRESH-INTERVAL:P3D
CALSCALE:GREGORIAN
BEGIN:VEVENT
DTSTART:20130831T130000Z
DTEND:20130831T160000Z
X-MICROSOFT-CDO-ALLDAYEVENT:FALSE
SUMMARY:Marshall Run - 10th Annual
DESCRIPTION:10th  ANNUAL In memory of our fallen comrade\, Tpr Kevin M Marshall 5K Run/Walk & 1 Mile Fun Run Saturday August 31\, 2013 9:00am  Riverfront Park Newaygo Applications are available at the Chamber Office or register the day of the event.  All Proceeds Benefit to the benefit of the Law Enforcement Torch Run For Special Olympics
X-ALT-DESC;FMTTYPE=text/html:10th &nbsp\;ANNUAL In memory of our fallen comrade\, Tpr Kevin M Marshall 5K Run/Walk &amp\; 1 Mile Fun Run Saturday August 31\, 2013 9:00am&nbsp\; Riverfront Park Newaygo Applications are available at the Chamber Office or register the day of the event.&nbsp\; All Proceeds Benefit to the benefit of the&nbsp\;Law Enforcement&nbsp\;Torch Run&nbsp\;For Special Olympics 
LOCATION:Riverfront Park\, Newaygo Riverfront Park is located in downtown Newaygo. The entrance to the park is off of Water Street\, which runs west off of M-37 (Near Wisner Canoe Rentals).
UID:e.1709.276
SEQUENCE:3
DTSTAMP:20260421T005212Z
URL:https://www.rivercountrychamber.com/events/details/marshall-run-10th-annual-08-31-2013-276
END:VEVENT

END:VCALENDAR
