BEGIN:VCALENDAR
VERSION:2.0
PRODID:-//ChamberMaster//Event Calendar 2.0//EN
METHOD:PUBLISH
X-PUBLISHED-TTL:P3D
REFRESH-INTERVAL:P3D
CALSCALE:GREGORIAN
BEGIN:VEVENT
DTSTART:20150906T130000Z
DTEND:20150905T150000Z
X-MICROSOFT-CDO-ALLDAYEVENT:FALSE
SUMMARY:Marshall Run - 12th Annual Run
DESCRIPTION:This is a 5k Run/Walk. Awards are given to the top three male and female finishers in each age group. T-shirts for each registrant.\n\n\n\nPlease go to www.marshallrun.com for a race flier and more information. Race hot line is 517-719-1195
X-ALT-DESC;FMTTYPE=text/html:This is a 5k Run/Walk. Awards are given to the top three male and female finishers in each age group. T-shirts for each registrant.<br />\n<br />\nPlease go to<a href="http://www.marshallrun.com"> www.marshallrun.com</a> for a race flier and more information. Race hot line is 517-719-1195
LOCATION:Riverfront Park\, Newaygo\, MI (behind Wisner Canoe Rentals)
UID:e.1709.948
SEQUENCE:3
DTSTAMP:20260421T144109Z
URL:https://www.rivercountrychamber.com/events/details/marshall-run-12th-annual-run-09-06-2015-948
END:VEVENT

END:VCALENDAR
