BEGIN:VCALENDAR
VERSION:2.0
PRODID:-//ChamberMaster//Event Calendar 2.0//EN
METHOD:PUBLISH
X-PUBLISHED-TTL:P3D
REFRESH-INTERVAL:P3D
CALSCALE:GREGORIAN
BEGIN:VEVENT
DTSTART:20210503T140000Z
DTEND:20210508T163000Z
X-MICROSOFT-CDO-ALLDAYEVENT:FALSE
SUMMARY:May Adult Drop-In Craft @ Newaygo Library
DESCRIPTION:Adults! Drop in to the Newaygo Library to make your very own Seed Bomb!\n\nSeed bombs are not only fun to make and pretty to look at once they sprout\, they're great for the environment and with Earth Day upon us it's the perfect time to do something good for the planet. All supplies will will be available upstairs in the Local History Room during Library hours.\n\nQUANTITIES ARE LIMITED.\n\nMasks are REQUIRED as well as Social Distancing!\n\nAdults and Teens ONLY\n\n* This is a Drop-In craft. Supplies are not available to make this at home.
X-ALT-DESC;FMTTYPE=text/html:<p>Adults! Drop in to the Newaygo Library to make your very own&nbsp\;<strong>Seed Bomb</strong>!</p>\n\n<p>Seed bombs are not only fun to make and pretty to look at once they sprout\, they&rsquo\;re great for the environment and with Earth Day upon us it&rsquo\;s the perfect time to do something good for the planet. All supplies will will be available upstairs in the Local History Room during Library hours.</p>\n\n<p><span style="color:#006400"><strong>QUANTITIES ARE LIMITED.<br />\nMasks are REQUIRED as well as Social Distancing!<br />\nAdults and Teens ONLY</strong></span></p>\n\n<p>* This is a Drop-In craft. Supplies are not available to make this at home.</p>\n
LOCATION:
UID:e.1709.37740
SEQUENCE:3
DTSTAMP:20260425T220817Z
URL:https://www.rivercountrychamber.com/events/details/may-adult-drop-in-craft-newaygo-library-37740
END:VEVENT

END:VCALENDAR
