BEGIN:VCALENDAR
VERSION:2.0
PRODID:-//ChamberMaster//Event Calendar 2.0//EN
METHOD:PUBLISH
X-PUBLISHED-TTL:P3D
REFRESH-INTERVAL:P3D
CALSCALE:GREGORIAN
BEGIN:VEVENT
DTSTART:20220518T073000Z
DTEND:20220518T203000Z
X-MICROSOFT-CDO-ALLDAYEVENT:FALSE
SUMMARY:May Book Club Discussion
DESCRIPTION:This month our book is: "THE DIAMOND EYE" by bestselling author\, Kate Quinn\, who will be joining the discussion via ZOOM!\n\n\n\nThis story is set in the snowbound city of Kiev (now known as Kyiv)\, in 1937.  Wry and bookish history student Mila Pavlichenko organizes her life around her library job and her young son but Hitler's invasion of Ukraine and Russia sends her on a different path. \n\n\n\nGiven a rifle and sent to join the fight\, Mila must forge herself from studious girl to deadly sniper a lethal hunter of Nazis known as Lady Death. When news of her three hundredth kill makes her a national heroine\, Mila finds herself torn from the bloody battlefields of the eastern front and sent to America on a goodwill tour.\n\n\n\nThe book will be on display @ the Front desk of the Library\, for ADULTS to checkout.\n\n\n\nWould you like a reminder for this event? \n\nSign up for our events reminder program! "Remind" will send out a text and email about events going on at Newaygo Library.   To sign up\, go to: remind.com/join/44kk72 or Text SIGNUP to 616-432-2161
X-ALT-DESC;FMTTYPE=text/html:<div><span style="color:rgb(60\, 64\, 67)\; font-family:roboto\,arial\,sans-serif\; font-size:14px">This month our book is: &quot\;THE DIAMOND EYE&quot\; by bestselling author\,&nbsp\;Kate Quinn\, who will be joining the discussion via ZOOM!</span><br />\n<br />\n<span style="color:rgb(60\, 64\, 67)\; font-family:roboto\,arial\,sans-serif\; font-size:14px">This story is set in the snowbound city of Kiev (now known as Kyiv)\, in 1937.&nbsp\; Wry and bookish history student Mila Pavlichenko organizes her life around her library job and her young son&mdash\;but Hitler&rsquo\;s invasion of Ukraine and Russia sends her on a different path.&nbsp\;</span><br />\n<br />\n<span style="color:rgb(60\, 64\, 67)\; font-family:roboto\,arial\,sans-serif\; font-size:14px">Given a rifle and sent to join the fight\, Mila must forge herself from studious girl to deadly sniper&mdash\;a lethal hunter of Nazis known as Lady Death. When news of her three hundredth kill makes her a national heroine\, Mila finds herself torn from the bloody battlefields of the eastern front and sent to America on a goodwill tour.</span><br />\n<br />\n<span style="color:rgb(60\, 64\, 67)\; font-family:roboto\,arial\,sans-serif\; font-size:14px">The book will be on display @ the Front desk of the Library\,</span><span style="color:rgb(60\, 64\, 67)\; font-family:roboto\,arial\,sans-serif\; font-size:14px">&nbsp\;for ADULTS to checkout.</span><br />\n<br />\n<span style="color:rgb(60\, 64\, 67)\; font-family:roboto\,arial\,sans-serif\; font-size:14px">Would you like a reminder for this event?&nbsp\;</span><br />\n<span style="color:rgb(60\, 64\, 67)\; font-family:roboto\,arial\,sans-serif\; font-size:14px">Sign up for our events reminder program! &quot\;Remind&quot\; will send out a text and email about events going on at Newaygo Library.&nbsp\; &nbsp\;To sign up\, go to:&nbsp\;</span><a href="https://www.google.com/url?q=http://remind.com/join/44kk72?fbclid%3DIwAR3LuY6Q7hJ-pmq1KJFXFNesFweNHh0ArGVJsFU1vyRamIGdoXBPhZEp7As&amp\;sa=D&amp\;source=calendar&amp\;usd=2&amp\;usg=AOvVaw0pCK0kZoPvMjoxdikEyHz5" style="color: rgb(26\, 115\, 232)\; font-family: Roboto\, Arial\, sans-serif\; font-size: 14px\; letter-spacing: 0.2px\; white-space: pre-wrap\;" target="_blank"><u>remind.com/join/44kk72</u></a><span style="color:rgb(60\, 64\, 67)\; font-family:roboto\,arial\,sans-serif\; font-size:14px">&nbsp\;or Text SIGNUP to 616-432-2161</span></div>\n
LOCATION:Newaygo City Chamber Room
UID:e.1709.38840
SEQUENCE:3
DTSTAMP:20260422T094340Z
URL:https://www.rivercountrychamber.com/events/details/may-book-club-discussion-38840
END:VEVENT

END:VCALENDAR
