BEGIN:VCALENDAR
VERSION:2.0
PRODID:-//ChamberMaster//Event Calendar 2.0//EN
METHOD:PUBLISH
X-PUBLISHED-TTL:P3D
REFRESH-INTERVAL:P3D
CALSCALE:GREGORIAN
BEGIN:VEVENT
DTSTART:20211204T153000Z
DTEND:20211204T173000Z
X-MICROSOFT-CDO-ALLDAYEVENT:FALSE
SUMMARY:Newaygo Library Meal Plan Workshop
DESCRIPTION:If you've been wanting to adopt healthier eating habits\, spend less money on food\, spend less time preparing food\, or any combination of the above\, then it's time to try Meal Planning.\n\n \n\nThis class will walk you through the basics of meal planning and give you the tools you need to get started.\n\n \n\nSPACE IS LIMITED!\n\n \n\nRSVP here: Meal Plan Workshop or call the Library at 231-653-6723\n\n \n\nWould you like a reminder for this event? Sign up for our events reminder program! "Remind" will send out a text and email about events going on at Newaygo Library. To sign up\, go to: remind.com/join/44kk72.
X-ALT-DESC;FMTTYPE=text/html:<div>If you&#39\;ve been wanting to adopt healthier eating habits\, spend less money on food\, spend less time preparing food\, or any combination of the above\, then it&#39\;s time to try Meal Planning.<br />\n&nbsp\;</div>\n\n<div>This class will walk you through the basics of meal planning and give you the tools you need to get started.<br />\n&nbsp\;</div>\n\n<div><strong>SPACE IS LIMITED!</strong><br />\n&nbsp\;</div>\n\n<div>RSVP here: <a href="https://tinyurl.com/nadl-meal-plan"><span style="color:#006400"><strong>Meal Plan Workshop</strong></span></a>&nbsp\;or call the Library at 231-653-6723<br />\n&nbsp\;</div>\n\n<div>Would you like a reminder for this event? Sign up for our events reminder program! &quot\;Remind&quot\; will send out a text and email about events going on at Newaygo Library. To sign up\, go to:&nbsp\;<a class="oajrlxb2 g5ia77u1 qu0x051f esr5mh6w e9989ue4 r7d6kgcz rq0escxv nhd2j8a9 nc684nl6 p7hjln8o kvgmc6g5 cxmmr5t8 oygrvhab hcukyx3x jb3vyjys rz4wbd8a qt6c0cv9 a8nywdso i1ao9s8h esuyzwwr f1sip0of lzcic4wl py34i1dx gpro0wi8" href="https://l.facebook.com/l.php?u=http%3A%2F%2Fremind.com%2Fjoin%2F44kk72%3Ffbclid%3DIwAR0FUfurbm_Gq8idL8tfYHjXN_afobmTp6qkTjdaAmbNnEjRGJv_sysXCXk&amp\;h=AT2ErZzgnU5hT2BC6leZM-Zo86GQj4kvx-GsHbAkuhUxnhyvqOJxD1HLAxzOXcOagENSdRcijB8P21mW-8cQSI5sd1Dq-dIAr9qe9NtOcrCpVMgRkt2eFx1gIxPihKFhgA&amp\;__tn__=q&amp\;c[0]=AT2z9ay7Cxedu3GQRHH2473HK-mHBJj-2lzeiiThj_tqufCXfhv4ZkuWQAq0iQ-_6ju-xXy88u0UWGa0qfKsem3B6pw-InabGYEOmIH4VhN493bivtDpa5eD-6B3No5Xjbxs1ra4uAKi0KS5W061wSCeNiRixTeb9VdUnz4EZrsAaWM" rel="nofollow noopener" style="color: var(--blue-link)\; cursor: pointer\; text-decoration-line: none\; outline: none\; list-style: none\; border-width: 0px\; border-style: initial\; border-color: initial\; padding: 0px\; margin: 0px\; touch-action: manipulation\; background-color: transparent\; text-align: inherit\; display: inline\; -webkit-tap-highlight-color: transparent\; box-sizing: border-box\; font-family: inherit\;" tabindex="0" target="_blank">remind.com/join/44kk72</a>.</div>\n
LOCATION:Newaygo Area District Library - Conference Room
UID:e.1709.38626
SEQUENCE:3
DTSTAMP:20260424T125738Z
URL:https://www.rivercountrychamber.com/events/details/meal-plan-workshop-38626
END:VEVENT

END:VCALENDAR
