BEGIN:VCALENDAR
VERSION:2.0
PRODID:-//ChamberMaster//Event Calendar 2.0//EN
METHOD:PUBLISH
X-PUBLISHED-TTL:P3D
REFRESH-INTERVAL:P3D
CALSCALE:GREGORIAN
BEGIN:VEVENT
DTSTART:20130822T213000Z
DTEND:20130822T233000Z
X-MICROSOFT-CDO-ALLDAYEVENT:FALSE
SUMMARY:Meet our skin-tastic team
DESCRIPTION:Meet Jennifer McAlister\, MD\, our new medical advisor\, Jennifer Mellema\, RN\, our new injection specialist\, and Tricia Grundy\, skin care specialist. See a demo of our new and exciting skin and body treatments. Meet Irv Marcus\, acupuncturist\, for questions and consultations. Be one of the first 10 people to register for this event and receive $100 off a single treatment of our new service\, Skin Tyte\, or a series of Hair Removal. Be one of the first 25 to attend the event and receive a complimentary spa gift (Only one special per person). Bring a Friend! Call now to register. 231.924.7800
X-ALT-DESC;FMTTYPE=text/html:Meet Jennifer McAlister\, MD\, our new medical advisor\, Jennifer Mellema\, RN\, our new injection specialist\, and Tricia Grundy\, skin care specialist. See a demo of our new and exciting skin and body treatments. Meet Irv Marcus\, acupuncturist\, for questions and consultations. Be one of the first 10 people to register for this event and receive $100 off a single treatment of our new service\, Skin Tyte\, or a series of Hair Removal. Be one of the first 25 to attend the event and receive a complimentary spa gift (Only one special per person). Bring a Friend! Call now to register. 231.924.7800
LOCATION:Ahhh\, The Spa at Tamarac 1401 W. Main Street Fremont\, MI 49412
UID:e.1709.272
SEQUENCE:3
DTSTAMP:20260421T005416Z
URL:https://www.rivercountrychamber.com/events/details/meet-our-skin-tastic-team-08-22-2013-272
END:VEVENT

END:VCALENDAR
