BEGIN:VCALENDAR
VERSION:2.0
PRODID:-//ChamberMaster//Event Calendar 2.0//EN
METHOD:PUBLISH
X-PUBLISHED-TTL:P3D
REFRESH-INTERVAL:P3D
CALSCALE:GREGORIAN
BEGIN:VEVENT
DTSTART:20131130T230000Z
DTEND:20131201T020000Z
X-MICROSOFT-CDO-ALLDAYEVENT:FALSE
SUMMARY:Meet the Artists Event at River Stop Cafe
DESCRIPTION:Join us for a unique evening including a "meet the artists" event celebrating local and national level artists.   Welcome ArtPrize Top 10 winning artist Tom Panei from Butler PA as he unveils two commissioned works for the Cafe.   Local artists Evan Farinosi and Myles Cronk will be on hand\, with additionalpieces being added to the Cafe collection.  Live music featuring Tom Panei and Scott Faulkner from 7-9 PM.
X-ALT-DESC;FMTTYPE=text/html:<p class="MsoNormal" style="margin: 0in 0in 0pt\;">\n	<font size="3"><font color="#000000"><font face="Calibri">Join us for a unique evening including a&nbsp\;&ldquo\;meet the artists&rdquo\; event celebrating local and national level artists.&nbsp\;&nbsp\; Welcome ArtPrize Top 10 winning artist Tom Panei from Butler PA as he unveils two commissioned works for the Cafe.&nbsp\;&nbsp\; Local a</font></font></font><font size="3"><font color="#000000"><font face="Calibri">rtists Evan Farinosi and Myles Cronk will be on hand\, with additionalpieces being added to the Cafe collection.&nbsp\; Live music featuring Tom Panei and Scott Faulkner from 7-9 PM.</font></font></font></p>\n
LOCATION:52 West State Road Newaygo MI
UID:e.1709.501
SEQUENCE:3
DTSTAMP:20260420T210405Z
URL:https://www.rivercountrychamber.com/events/details/meet-the-artists-event-at-river-stop-cafe-11-30-2013-501
END:VEVENT

END:VCALENDAR
