BEGIN:VCALENDAR
VERSION:2.0
PRODID:-//ChamberMaster//Event Calendar 2.0//EN
METHOD:PUBLISH
X-PUBLISHED-TTL:P3D
REFRESH-INTERVAL:P3D
CALSCALE:GREGORIAN
BEGIN:VEVENT
DTSTART:20260523T140000Z
DTEND:20260524T210000Z
X-MICROSOFT-CDO-ALLDAYEVENT:FALSE
SUMMARY:Memorial Weekend Vendor Market 2026
DESCRIPTION:The Official Newaygo County Summer Kick-Off!\n\nJoin us for our annual vendor show in Brooks Park\, Newaygo! Stroll through the park to discover handmade crafts\, unique resale items\, and enjoy live music. Savor delicious options from a variety of food trucks\, and explore sidewalk sales\, dining specials\, and more throughout downtown. \n\n\n Live Entertainment \n\n \n8th Annual Cruisin' with the Oldies auto show will be Saturday\, May 23rd! Proceeds go to the benefit of West Michigan Veterans Ranch. With your help\, we were able to give $1\,258.00 to WMVR from our 2025 show! \n\nClick here for details\n\n\n\nSIDEWALK SALES\n\nThursday - Sunday! Check out downtown to see what sales you can snag! \n\n\n\nCheck out our Member Promotions! Coming Soon\n\n\n\n\n\nFAQ:\n\nPublic Parking:\n\nBehind The Stream\, behind Heritage Museum to Parsley's\, marked spaces along M-37\, the school parking lots (take the stairs down)\, around Brooks Park. Please be patient and use crosswalks. Do not block driveways. Please do not utilize church parking lots during service hours. \n\nPets:\n\nWell behaved pets are permitted\, but must be leashed and with a human at all times. Must pick up after them and dispose in trash receptacle. Check the Chamber Booth for a water station. \n\nParent Station: \n\nWe've got you covered! We have an enclosed booth for privacy to use as needed.  Whether you need to change or feed your child\, or someone would like a quiet space you're welcome to use. Located next to the Stage. \n\nSecurity:\n\nWe are fortunate to have Newaygo Police Department and Reserve Officers throughout the area. Make sure to stop and say Hello so kiddos can get a badge! A First Aid kit will be at the chamber booth by the stage. \n\nWhere can we stay nearby? We have a full list of lodging members here! \n\nNote: There is no smoking or vaping permitted in the event area and is posted per city rules. \n\n\n\n\n\nFood Trucks: \n\nBig Mike's Kettle Corn\n\nCarlson's Almonds & Smoothies\n\nDodie's Concessions (elephant ears)\n\nHoser's Firehouse BBQ\n\nPhat Matt's Food Truck\n\nSanders Mobile Shop\n\nSober Eats\n\n\n\n\n\nFor more information\, please click the following below:\n\n Sponsorship Opportunities \n\n Exhibitor Registration\, Rules & Details  (If you want to be a vendor\, click this link)\n\n Opportunities to Volunteer\n\n Lodging\n\n Local Eats
X-ALT-DESC;FMTTYPE=text/html:<div>\n<p><span style="font-size:16px\;"><strong>The Official Newaygo County Summer Kick-Off!</strong></span></p>\n\n<p><span style="font-size:16px\;">Join us for our annual vendor show in Brooks Park\, Newaygo! Stroll through the park to discover handmade crafts\, unique resale items\, and enjoy live music. Savor delicious options from a variety of food trucks\, and explore sidewalk sales\, dining specials\, and more throughout downtown.&nbsp\;</span></p>\n<br />\n<span style="font-size:16px\;"><strong>&diams\;Live Entertainment&diams\;</strong></span><br />\n&nbsp\;</div>\n<span style="font-size:16px\;"><strong>8th Annual Cruisin&#39\; with the Oldies&nbsp\;</strong>auto show will be Saturday\, May 23rd! Proceeds go to the benefit of West Michigan Veterans Ranch. With your help\, we were able to give $1\,258.00 to WMVR from our 2025 show!&nbsp\;<br />\n<a href="https://www.rivercountrychamber.com/events/details/cruisin-with-the-oldies-auto-show-2026-43074"><strong>Click here for details</strong></a></span><br />\n<br />\n<strong><span style="font-size:16px\;">SIDEWALK SALES</span></strong><br />\n<span style="font-size:16px\;">Thursday - Sunday! Check out downtown to see what sales you can snag!&nbsp\;</span><br />\n<br />\n<span style="font-size:16px\;"><strong>Check out our Member Promotions! Coming Soon</strong></span><br />\n<br />\n<br />\n<strong>FAQ:</strong><br />\n<span style="font-size:16px\;"><strong>Public Parking:</strong><br />\nBehind The Stream\, behind Heritage Museum to Parsley&#39\;s\, marked spaces along M-37\, the school parking lots (take the stairs down)\, around Brooks Park. Please be patient and use crosswalks. Do not block driveways. Please do not utilize church parking lots during service hours.&nbsp\;<br />\n<strong>Pets:</strong><br />\nWell behaved pets are permitted\, but must be leashed and with a human at all times. Must pick up after them and dispose in trash receptacle. Check the Chamber Booth for a water station.&nbsp\;<br />\n<strong>Parent Station:&nbsp\;</strong><br />\nWe&#39\;ve got you covered! We have an enclosed booth for privacy to use as needed.&nbsp\; Whether you need to change or feed your child\, or someone would like a quiet space you&#39\;re welcome to use. Located next to the Stage.&nbsp\;<br />\n<strong>Security:</strong><br />\nWe are fortunate to have Newaygo Police Department and Reserve Officers throughout the area. Make sure to stop and say Hello so kiddos can get a badge! A First Aid kit will be at the chamber booth by the stage.&nbsp\;<br />\n<strong>Where can we stay nearby?</strong> We have a full list of lodging members <a href="https://www.rivercountrychamber.com/list/ql/lodging-39">here</a>!&nbsp\;<br />\n<strong>Note:</strong> There is no smoking or vaping permitted in the event area and is posted per city rules.&nbsp\;<br />\n<br />\n<br />\n<strong>Food Trucks:&nbsp\;<br />\n<a href="https://www.facebook.com/BigMikesKettleCorn">Big Mike&#39\;s Kettle Corn</a><br />\n<a href="https://www.facebook.com/profile.php?id=100069355801306">Carlson&#39\;s Almonds &amp\; Smoothies</a></strong></span><br />\n<a href="https://www.facebook.com/yummyconcessionconfections" style="font-size: 16px\;">Dodie&#39\;s Concessions</a><span style="font-size:16px\;">&nbsp\;(elephant ears)<br />\n<strong><a href="https://www.facebook.com/profile.php?id=61567200249485">Hoser&#39\;s Firehouse BBQ</a></strong></span><br />\n<a href="https://www.facebook.com/profile.php?id=100041453575666" style="font-size: 16px\;">Phat Matt&#39\;s Food Truck</a><br />\n<span style="font-size:16px\;"><strong><a href="https://www.facebook.com/sandersmobileshop">Sanders Mobile Shop</a></strong><br />\n<a href="https://www.facebook.com/sobereats"><strong>Sober Eats</strong></a><br />\n<br />\n<br />\n<strong>For more information\, please click the following below:</strong><br />\n<span style="color:#3399ff\;">&#9658\;</span><a href="https://chambermaster.blob.core.windows.net/userfiles/UserFiles/chambers/1709/File/2026_SPONSORSHIP/MemorialMarketSponsorship.pdf">Sponsorship Opportunities&nbsp\;</a><br />\n<a href="https://www.rivercountrychamber.com/events/details/registration-memorial-weekend-vendor-market-2026-42918">&#9658\;Exhibitor Registration\, Rules &amp\; Details&nbsp\;&nbsp\;</a>(If you want to be a vendor\, click this link)<br />\n<a href="https://signup.com/go/uNYpRHm">&#9658\;Opportunities to Volunteer</a><br />\n<a href="https://www.rivercountrychamber.com/list/ql/lodging-39">&#9658\;Lodging</a><br />\n<a href="https://www.rivercountrychamber.com/list/category/restaurant-dining-94">&#9658\;Local Eats</a></span>
LOCATION:Brooks Park\, Downtown Newaygo 28 State Road Newaygo\, MI 49337
UID:e.1709.42917
SEQUENCE:3
DTSTAMP:20260421T083723Z
URL:https://www.rivercountrychamber.com/events/details/memorial-weekend-vendor-market-2026-42917
END:VEVENT

END:VCALENDAR
