BEGIN:VCALENDAR
VERSION:2.0
PRODID:-//ChamberMaster//Event Calendar 2.0//EN
METHOD:PUBLISH
X-PUBLISHED-TTL:P3D
REFRESH-INTERVAL:P3D
CALSCALE:GREGORIAN
BEGIN:VEVENT
DTSTART:20131206T230000Z
DTEND:20131207T020000Z
X-MICROSOFT-CDO-ALLDAYEVENT:FALSE
SUMMARY:Memories of Christmas Past
DESCRIPTION:Visit the Newaygo County Museum and Heritage Center on the evening of December 6 during the Christmas Festival.  Warm up while strolling through our decorated exhibits reminiscent of those Christmases long ago.  See the authentic Courtright Christmas tree\, our working model Santa train\, a dollhouse that is over 6' tall\, and much\, much more!
X-ALT-DESC;FMTTYPE=text/html:Visit the Newaygo County Museum and Heritage Center on the evening of December 6 during the Christmas Festival. &nbsp\;Warm up while strolling through our decorated exhibits reminiscent of those Christmases long ago. &nbsp\;See the authentic Courtright Christmas tree\, our working model Santa train\, a dollhouse that is over 6&#39\; tall\, and much\, much more! 
LOCATION:12 Quarterline\, downtown Newaygo\, across from Brooks Park
UID:e.1709.499
SEQUENCE:3
DTSTAMP:20260420T210109Z
URL:https://www.rivercountrychamber.com/events/details/memories-of-christmas-past-12-06-2013-499
END:VEVENT

END:VCALENDAR
