BEGIN:VCALENDAR
VERSION:2.0
PRODID:-//ChamberMaster//Event Calendar 2.0//EN
METHOD:PUBLISH
X-PUBLISHED-TTL:P3D
REFRESH-INTERVAL:P3D
CALSCALE:GREGORIAN
BEGIN:VEVENT
DTSTART:20211210T220000Z
DTEND:20211211T000000Z
X-MICROSOFT-CDO-ALLDAYEVENT:FALSE
SUMMARY:Moms Night Out @ Katie & Company
DESCRIPTION:More information to come! \n\n\n\nWatch Katie & Company's Facebook page for more information! https://www.facebook.com/katieandcompanystudio
X-ALT-DESC;FMTTYPE=text/html:More information to come!&nbsp\;<br />\n<br />\nWatch Katie &amp\; Company&#39\;s Facebook page for more information!&nbsp\;https://www.facebook.com/katieandcompanystudio
LOCATION:
UID:e.1709.38613
SEQUENCE:3
DTSTAMP:20260420T054730Z
URL:https://www.rivercountrychamber.com/events/details/moms-night-out-katie-company-38613
END:VEVENT

END:VCALENDAR
