BEGIN:VCALENDAR
VERSION:2.0
PRODID:-//ChamberMaster//Event Calendar 2.0//EN
METHOD:PUBLISH
X-PUBLISHED-TTL:P3D
REFRESH-INTERVAL:P3D
CALSCALE:GREGORIAN
BEGIN:VEVENT
DTSTART:20140511T153000Z
DTEND:20140511T183000Z
X-MICROSOFT-CDO-ALLDAYEVENT:FALSE
SUMMARY:Mothers Day Buffet @ Camp Newaygo
DESCRIPTION:We all love our moms\, and once a year we honor them with a special day. This year\, do something really special. Flowers and candy? It's been done. Breakfast in bed? Sounds like a lot of work. Why not bring her to the scenic Lang Lodge at beautiful Camp Newaygo for a full buffet including carved prime rib\, herb crusted chicken\, seafood pasta\, herb roasted potatoes\, macaroni and cheese\, salad\, vegetable medley\, French toast\, cinnamon rolls\, bacon\, eggs\, fresh fruit\, cheese cake\, pies\, cookies\, and more! Let Ridge Catering do all the cooking and cleaning and the whole family can treat mom to a stress-free celebration at Camp Newaygo.\n\n\n\n"When I tell people it's less than $20 per adult\, less than $15 for kids ages 5   10\, and less than $5 for kids under 5\, they think it sound too good to be true\, but it isn't " said Christa Smalligan\, Camp Newaygo's Events and Operations Specialist. The Mother's Day Buffet takes place on Sunday\, May 11 (that's Mother's Day)\, at Camp Newaygo\, located at 5333 Centerline Rd.\, Newaygo. There will be two separate seatings available at 11:30 AM and 1:00 PM.  Space is limited though\, and by advanced registration only\, so call Camp Newaygo today to reserve your spots at (231) 652-1184\, and make it a Mother's Day to remember!
X-ALT-DESC;FMTTYPE=text/html:<p><span style="font-size:14px\;"><span style="font-family: arial\,helvetica\,sans-serif\;">We all love our moms\, and once a year we honor them with a special day. This year\, do something really special. Flowers and candy? It&rsquo\;s been done. Breakfast in bed? Sounds like a lot of work. Why not bring her to the scenic Lang Lodge at beautiful Camp Newaygo for a full buffet <span style="color: black\;">including carved prime rib\, herb crusted chicken\,&nbsp\;seafood&nbsp\;pasta\, herb roasted potatoes\, macaroni and cheese\, salad\, vegetable medley\, French toast\, cinnamon rolls\, bacon\, eggs\, fresh fruit\, cheese cake\, pies\, cookies\, and more! Let Ridge Catering do all the cooking and cleaning and t</span>he whole family can treat mom to a stress-free celebration at Camp Newaygo.</span></span></p>\n\n<p><br />\n<span style="font-size:14px\;"><span style="font-family: arial\,helvetica\,sans-serif\;"><span style="color: black\;"><em>&ldquo\;When I tell people it&rsquo\;s less than $20 per adult\, less than $15 for kids ages 5 &ndash\; 10\, and less than $5 for kids under 5\, they think it sound too good to be true\, but it isn&rsquo\;t&hellip\;&rdquo\;</em> said Christa Smalligan\, Camp Newaygo&rsquo\;s Events and Operations Specialist. The Mother&rsquo\;s Day Buffet takes place on Sunday\, May 11 (that&rsquo\;s Mother&rsquo\;s Day)\, at </span>Camp Newaygo\, located at 5333 Centerline Rd.\, Newaygo. There will be<span style="color: black\;"> two separate seatings available at 11:30 AM and 1:00 PM.&nbsp\; Space is limited though\, and by advanced registration only\, so call Camp Newaygo today to reserve your spots at (231) 652-1184\, and make it a Mother&rsquo\;s Day to remember!&nbsp\; </span></span></span></p>\n
LOCATION:Camp Newaygo\, 5333 Centerline Rd.\, Newaygo.
UID:e.1709.885
SEQUENCE:3
DTSTAMP:20260420T130354Z
URL:https://www.rivercountrychamber.com/events/details/mothers-day-buffet-camp-newaygo-05-11-2014-885
END:VEVENT

END:VCALENDAR
