BEGIN:VCALENDAR
VERSION:2.0
PRODID:-//ChamberMaster//Event Calendar 2.0//EN
METHOD:PUBLISH
X-PUBLISHED-TTL:P3D
REFRESH-INTERVAL:P3D
CALSCALE:GREGORIAN
BEGIN:VEVENT
DTSTART:20140727T013000Z
DTEND:20140727T030000Z
X-MICROSOFT-CDO-ALLDAYEVENT:FALSE
SUMMARY:Movie in the Park!
DESCRIPTION:MOVIE IN THE PARK!\n\n\n\nShowing: Heaven is for Real (PG)\n\n\n\nWhen: At Dusk\n\n\n\nWhere: White Cloud Park\n\n(next to the football field)\n\n\n\nCost: FREE!\n\n\n\nBring your chairs and snacks!\n\n\n\nThank you to the White Cloud Community Library for use of their outdoor movie screen & movies to help make this possible!
X-ALT-DESC;FMTTYPE=text/html:<span style="color: #008080"><strong><span style="font-size: 28px"><span style="font-family: tahoma">MOVIE IN THE PARK!</span></span></strong><br />\n<br />\n<span style="font-size: 28px"><span style="font-family: tahoma">Showing: Heaven is for Real (PG)<br />\n<br />\nWhen: At Dusk<br />\n<br />\nWhere: White Cloud Park<br />\n(next to the football field)<br />\n<br />\nCost: FREE!<br />\n<br />\nBring your chairs and snacks!<br />\n<br />\nThank you to the White Cloud Community Library for use of their outdoor movie screen &amp\; movies to help make this possible!</span></span></span>
LOCATION:White Cloud Park (next to football field) 680 E. Wilcox White Cloud\, MI 49349
UID:e.1709.939
SEQUENCE:3
DTSTAMP:20260420T114750Z
URL:https://www.rivercountrychamber.com/events/details/movie-in-the-park-07-26-2014-939
END:VEVENT

END:VCALENDAR
