BEGIN:VCALENDAR
VERSION:2.0
PRODID:-//ChamberMaster//Event Calendar 2.0//EN
METHOD:PUBLISH
X-PUBLISHED-TTL:P3D
REFRESH-INTERVAL:P3D
CALSCALE:GREGORIAN
BEGIN:VEVENT
DTSTART:20140209T190000Z
DTEND:20140209T203000Z
X-MICROSOFT-CDO-ALLDAYEVENT:FALSE
SUMMARY:NAIFC Tournament Weigh In - Awards Presentation
DESCRIPTION:Come and see the weigh in and top place winners.
X-ALT-DESC;FMTTYPE=text/html:Come and see the weigh in and top place winners.
LOCATION:The American Legion\, 6812 S. Croton Hardy Drive\, Newaygo Michigan 49337
UID:e.1709.578
SEQUENCE:3
DTSTAMP:20260420T170701Z
URL:https://www.rivercountrychamber.com/events/details/naifc-tournament-weigh-in-awards-presentation-02-09-2014-578
END:VEVENT

END:VCALENDAR
