BEGIN:VCALENDAR
VERSION:2.0
PRODID:-//ChamberMaster//Event Calendar 2.0//EN
METHOD:PUBLISH
X-PUBLISHED-TTL:P3D
REFRESH-INTERVAL:P3D
CALSCALE:GREGORIAN
BEGIN:VEVENT
DTSTART:20221130T164500Z
DTEND:20221130T180000Z
X-MICROSOFT-CDO-ALLDAYEVENT:FALSE
SUMMARY:NCEDP Presents: Lunch & Learn Childcare Trishare Program
DESCRIPTION:ATTN: Business owners\, HR Managers\, etc...\n\n\n\nIs childcare a major issue for your teams? Are you interested in learning about an innovative solution which cuts cost of licensed childcare for your eligible employees?\n\n\n\nThe Newaygo County Economic Development Partnership's next Lunch & Learn is focusing on this issue\, highlighting the Childcare Trishare Program!\n\n\n\nJoin us on Nov 30 at The Stream in Newaygo for a free lunch\, so you can learn how to take advantage of this awesome program.\n\n\n \n\n\nHere is a quick 2 min video that highlights the program: https://www.wzzm13.com/.../69-e3d68456-f9ca-4a15-9a9c...
X-ALT-DESC;FMTTYPE=text/html:<div>\n<div>ATTN: Business owners\, HR Managers\, etc...</div>\n</div>\n\n<div>\n<div>Is childcare a major issue for your teams? Are you interested in learning about an innovative solution which cuts cost of licensed childcare for your eligible employees?</div>\n</div>\n\n<div>\n<div>The Newaygo County Economic Development Partnership&#39\;s next Lunch &amp\; Learn is focusing on this issue\, highlighting the Childcare Trishare Program!</div>\n</div>\n\n<div>\n<div>Join us on Nov 30 at The Stream in Newaygo for a free lunch\, so you can learn how to take advantage of this awesome program.</div>\n</div>\n\n<div>&nbsp\;</div>\n\n<div>\n<div>Here is a quick 2 min video that highlights the program: <span style="font-family:inherit"><a class="x1i10hfl xjbqb8w x6umtig x1b1mbwd xaqea5y xav7gou x9f619 x1ypdohk xt0psk2 xe8uvvx xdj266r x11i5rnm xat24cr x1mh8g0r xexx8yu x4uap5 x18d9i69 xkhd6sd x16tdsg8 x1hl2dhg xggy1nq x1a2a7pz xt0b8zv x1fey0fg" href="https://www.wzzm13.com/article/news/state/program-helping-families-afford-child-care-expanded-to-59-counties/69-e3d68456-f9ca-4a15-9a9c-33e521d41fbf?fbclid=IwAR1ZtzQSECisYVAndSBbyyO7efZ0n1fXkx3oOfoSG9Rr_QIHiq6I9TCEMwc" rel="nofollow noopener" style="color: var(--blue-link)\; cursor: pointer\; text-decoration-line: none\; outline: none\; list-style: none\; border-width: 0px\; border-style: initial\; border-color: initial\; margin: 0px\; text-align: inherit\; padding: 0px\; -webkit-tap-highlight-color: transparent\; box-sizing: border-box\; touch-action: manipulation\; background-color: transparent\; display: inline\; font-family: inherit\;" tabindex="0" target="_blank">https://www.wzzm13.com/.../69-e3d68456-f9ca-4a15-9a9c...</a></span></div>\n</div>\n
LOCATION:The Stream
UID:e.1709.39054
SEQUENCE:3
DTSTAMP:20260425T000816Z
URL:https://www.rivercountrychamber.com/events/details/ncedp-presents-lunch-learn-childcare-trishare-program-39054
END:VEVENT

END:VCALENDAR
