BEGIN:VCALENDAR
VERSION:2.0
PRODID:-//ChamberMaster//Event Calendar 2.0//EN
METHOD:PUBLISH
X-PUBLISHED-TTL:P3D
REFRESH-INTERVAL:P3D
CALSCALE:GREGORIAN
BEGIN:VEVENT
DTSTART:20240608T160000Z
DTEND:20240608T190000Z
X-MICROSOFT-CDO-ALLDAYEVENT:FALSE
SUMMARY:NCKD Vendor Registration
DESCRIPTION:Exhibitor Information:\n\nIf you'd like to have a Free booth\, click the green register button on the right! (Must bring an activity or give-away for kids!)\n\n\n\n Set up times begins at 10:00am. Booth must be open by 12pm.\n\n  Driving into the park is prohibited. Please bring a wagon or dolly to assist. \n\n You may have informational and promotional material/items available. You may not pass out anything outside of your booth space. \n\n Signage must be family friendly. \n\n What to bring? We suggest games of all types\, arts & crafts\, treats\, face painting\, etc.  Get creative and have fun with it! \n\n Parking: Please move your vehicle to the empty lot on the corner of Wood & Justice or behind The Stream\, so guests have available parking. (With the exception of handicap guests)\n\n Road Closure: Quarterline and Justice will be closed around Brooks Park (NO PARKING).
X-ALT-DESC;FMTTYPE=text/html:<div animation-name:="" class="o9v6fnle cxmmr5t8 oygrvhab hcukyx3x c1et5uql" color:="" font-size:="" none="" segoe="" style="overflow-wrap: break-word\; margin: 0.5em 0px 0px\;" transition-property:="" ui="">\n<div dir="auto" style="font-family: inherit\; animation-name: none !important\; transition-property: none !important\;"><span style="font-size: 16px\;"><strong>Exhibitor Information:</strong></span></div>\n</div>\n<span style="font-size: 16px\;">If you&#39\;d like to have a<span style="color: rgb(0\, 0\, 0)\;">&nbsp\;<strong>Free</strong>&nbsp\;<strong>booth</strong></span>\, click the green register button on the right! (Must bring an&nbsp\;<span style="color: rgb(0\, 0\, 0)\;"><strong>activity or give-away for kids</strong></span>!)<br />\n<br />\n&diams\;Set up times begins at 10:00am. Booth must be open by 12pm.<br />\n&diams\; Driving into the park is prohibited. Please bring a wagon or dolly to assist.&nbsp\;<br />\n&diams\;You may have informational and promotional material/items available. You may not pass out anything outside of your booth space.&nbsp\;<br />\n&diams\;Signage must be family friendly.&nbsp\;<br />\n&diams\;What to bring? We suggest games of all types\, arts &amp\; crafts\, treats\, face painting\, etc.&nbsp\; Get creative and have fun with it!&nbsp\;<br />\n&diams\;Parking: Please move your vehicle to the empty lot on the corner of Wood &amp\; Justice or behind The Stream\, so guests have available parking. (With the exception of handicap guests)<br />\n&diams\;Road Closure: Quarterline and Justice will be closed around Brooks Park (NO PARKING).&nbsp\;</span>
LOCATION:Brooks Park Newaygo\, MI
UID:e.1709.41260
SEQUENCE:3
DTSTAMP:20260424T090949Z
URL:https://www.rivercountrychamber.com/events/details/nckd-vendor-registration-41260
END:VEVENT

END:VCALENDAR
