BEGIN:VCALENDAR
VERSION:2.0
PRODID:-//ChamberMaster//Event Calendar 2.0//EN
METHOD:PUBLISH
X-PUBLISHED-TTL:P3D
REFRESH-INTERVAL:P3D
CALSCALE:GREGORIAN
BEGIN:VEVENT
DTSTART:20230615T213000Z
DTEND:20230615T233000Z
X-MICROSOFT-CDO-ALLDAYEVENT:FALSE
SUMMARY:Networking Meet Up - June 2023
DESCRIPTION:CANCELLED - SORRY! \n\n\n\n\n\n\n\n\nGrowing your business one relationship at a time...\n\n\n\nNetworking doesn't have to be boring and with our Members it never is! \n\n\n\nSo\, why Network?\n\n- Create professional connections\n\n- Job referrals\n\n- Opportunity to advance and grow your career\n\n- Re-energize your own work\n\n- Bounce ideas off industry peers\n\n- Get inspired and motivated\n\n- Bring awareness to your business\n\n- Increase your confidence\n\n- Hang out with Kelly & Rachael\n\n\n\nBring a friend\, your business card and an appetite. Let us know you're attending! Please click the green Register button on the right. Click the "no charge registration" option. This way our Host will know what to expect. Thank you!  \n\n\n\n \n\n\nWIN!\n\nWe have 3 ways for Members to win a $250 credit to sponsor an event\n\nof your choice when you attend a Meet Up!
X-ALT-DESC;FMTTYPE=text/html:<div style="text-align: center\;"><font face="comic sans ms"><span style="font-size: 22px\;"><span style="color: rgb(204\, 0\, 102)\;"><span style="font-size:48px\;"><strong>CANCELLED - SORRY!&nbsp\;</strong></span></span></span></font></div>\n<br />\n<br />\n<br />\n<br />\n<font face="comic sans ms"><span style="font-size: 22px\;"><span style="color: rgb(204\, 0\, 102)\;">Growing your business one relationship at a time...</span></span></font><br />\n<br />\n<span style="font-size: 16px\;"><span style="font-size: 18px\;">Networking doesn&#39\;t have to be boring and with our Members it never is!&nbsp\;<br />\n<br />\n<strong>So\, why Network?</strong><br />\n- Create professional connections<br />\n- Job referrals<br />\n- Opportunity to advance and grow your career<br />\n-&nbsp\;Re-energize your own work<br />\n- Bounce ideas off industry peers<br />\n- Get inspired and motivated<br />\n- Bring awareness to your business<br />\n- Increase your confidence<br />\n- Hang out with Kelly &amp\; Rachael<br />\n<br />\nBring a friend\, your business card and an appetite.&nbsp\;Let us know you&#39\;re attending! Please click the green Register button on the right. Click the &quot\;no charge registration&quot\; option. This way our Host will know what to expect. Thank you!&nbsp\;&nbsp\;</span></span><br />\n<br />\n&nbsp\;\n<div style="text-align: center\;"><br />\n<span style="font-size: 16px\;"><span style="font-size: 18px\;"><strong>WIN!</strong><br />\nWe have 3 ways for Members to win a $250 credit to sponsor an event<br />\nof your choice when you attend a Meet Up!</span></span></div>\n\n<div style="text-align: center\;">&nbsp\;</div>\n
LOCATION:TrueNorth Community Services 6308 South Warner Avenue Fremont MI 49412 *We will utilize the outdoor space with shade options if weather permits Save The Dates: AUGUST 17TH- New York Life at The Stream NOVEMBER 16TH - Smuggler's at North Shore
UID:e.1709.39096
SEQUENCE:3
DTSTAMP:20260421T124017Z
URL:https://www.rivercountrychamber.com/events/details/networking-meet-up-june-2023-39096
END:VEVENT

END:VCALENDAR
