BEGIN:VCALENDAR
VERSION:2.0
PRODID:-//ChamberMaster//Event Calendar 2.0//EN
METHOD:PUBLISH
X-PUBLISHED-TTL:P3D
REFRESH-INTERVAL:P3D
CALSCALE:GREGORIAN
BEGIN:VEVENT
DTSTART:20140517T233000Z
DTEND:20140518T013000Z
X-MICROSOFT-CDO-ALLDAYEVENT:FALSE
SUMMARY:New West Guitar Group at Dogwood Center for Performing Arts
DESCRIPTION:On May 17\, New West Guitar Group will perform in the Dogwood Center's Black Box at 7:30 p.m. Featuring Jeff Stein\, John Storie and Perry Smith\, New West has been making their mark as a fresh\, cutting-edge guitar ensemble. Performing popular covers\, jazz standards and exciting originals\, New West combines the acoustic and electric guitar to create their signature sound. Based in Los Angeles and New York\, New West tours extensively throughout the United States giving concerts and master classes. Their music is regularly featured on NPR and jazz/Americana radio stations all over the country.\n\n \n\nPraised as "sharp and refined" by the Seattle Times\, New West Guitar Group infuses it latest disc "Big City" with its signature blend of laid-back virtuosity and expert arrangements. \n\n \n\nFirmly rooted in classic jazz\, the trio's versatility as both players and composers has given them a reputation as pioneers in the realm of guitar ensemble repertoire. Acoustic Guitar Magazine has praised the group for its ability to shift seamlessly "from chamber-like elegance and fragile introspection to exhilarating swing and gritty blues".
X-ALT-DESC;FMTTYPE=text/html:<div>On May 17\, New West Guitar Group will perform in the Dogwood Center&rsquo\;s Black Box at 7:30 p.m. Featuring Jeff Stein\, John Storie and Perry Smith\, New West has been making their mark as a fresh\, cutting-edge guitar ensemble. Performing popular covers\, jazz standards and exciting originals\, New West combines the acoustic and electric guitar to create their signature sound. Based in Los Angeles and New York\, New West tours extensively throughout the United States giving concerts and master classes. Their music is regularly featured on NPR and jazz/Americana radio stations all over the country.</div>\n\n<div>&nbsp\;</div>\n\n<div>Praised as &ldquo\;sharp and refined&rdquo\; by the Seattle Times\, New West Guitar Group infuses it latest disc &ldquo\;Big City&rdquo\; with its signature blend of laid-back virtuosity and expert arrangements.&nbsp\;</div>\n\n<div>&nbsp\;</div>\n\n<div>Firmly rooted in classic jazz\, the trio&rsquo\;s versatility as both players and composers has given them a reputation as pioneers in the realm of guitar ensemble repertoire. Acoustic Guitar Magazine has praised the group for its ability to shift seamlessly &ldquo\;from chamber-like elegance and fragile introspection to exhilarating swing and gritty blues&rdquo\;.</div>\n\n<div>&nbsp\;</div>\n
LOCATION:Dogwood Center for Performing Arts\, 4734 S. Campus Court\, Fremont\, MI 49412
UID:e.1709.881
SEQUENCE:3
DTSTAMP:20260420T130614Z
URL:https://www.rivercountrychamber.com/events/details/new-west-guitar-group-at-dogwood-center-for-performing-arts-05-17-2014-881
END:VEVENT

END:VCALENDAR
