BEGIN:VCALENDAR
VERSION:2.0
PRODID:-//ChamberMaster//Event Calendar 2.0//EN
METHOD:PUBLISH
X-PUBLISHED-TTL:P3D
REFRESH-INTERVAL:P3D
CALSCALE:GREGORIAN
BEGIN:VEVENT
DTSTART:20131027T140000Z
DTEND:20131027T180000Z
X-MICROSOFT-CDO-ALLDAYEVENT:FALSE
SUMMARY:Newaygo Bands - Brunch at Sportsmans
DESCRIPTION:Take Note & Save the  Last Sunday of October  to show your support for the Newaygo Bands Stop  In any time on October 27th between 10-2 For Sunday Brunch
X-ALT-DESC;FMTTYPE=text/html:Take Note &amp\; Save the&nbsp\; Last Sunday of October&nbsp\; to show your support for the Newaygo Bands Stop &nbsp\;In any time on October 27th between 10-2 For Sunday Brunch &nbsp\; 
LOCATION:Sportsman's Bar and Restaurant 30 State Newaygo\, MI 49337
UID:e.1709.464
SEQUENCE:3
DTSTAMP:20260420T233745Z
URL:https://www.rivercountrychamber.com/events/details/newaygo-bands-brunch-at-sportsmans-10-27-2013-464
END:VEVENT

END:VCALENDAR
