BEGIN:VCALENDAR
VERSION:2.0
PRODID:-//ChamberMaster//Event Calendar 2.0//EN
METHOD:PUBLISH
X-PUBLISHED-TTL:P3D
REFRESH-INTERVAL:P3D
CALSCALE:GREGORIAN
BEGIN:VEVENT
DTSTART:20131210T210000Z
DTEND:20131211T010000Z
X-MICROSOFT-CDO-ALLDAYEVENT:FALSE
SUMMARY:Newaygo Bands Christmas Jazz Cronks Fundraiser
DESCRIPTION:Get in the Christmas Spirit with The Newaygo Jazz Band \n\n	Stop by Cronk's Tuesday\, December 10th between 4-8 pm \n\n	10 % of All proceeds from anything ordered off the Menu will be donated to the band. The Jazz band will play Christmas music starting at 6 pm.
X-ALT-DESC;FMTTYPE=text/html:<p style="margin-bottom: 0in">\n	<font face="Trajan Pro 3\, serif"><font size="4"><b>Get in the Christmas Spirit with The Newaygo Jazz Band </b></font></font></p>\n<p style="margin-bottom: 0in">\n	<font face="Trajan Pro 3\, serif"><b>Stop by Cronk&#39\;s Tuesday\, December </b><b>10</b><sup><b>th</b></sup><b> between 4-8 pm </b></font></p>\n<p style="margin-bottom: 0in">\n	<font face="Trajan Pro 3\, serif"><b>10 % of All proceeds from anything ordered off the Menu will be donated to the band. The Jazz band will play Christmas music starting at 6 pm. &nbsp\;</b></font></p>\n
LOCATION:9103 Mason Dr\, Newaygo\, MI 49337
UID:e.1709.534
SEQUENCE:3
DTSTAMP:20260420T210110Z
URL:https://www.rivercountrychamber.com/events/details/newaygo-bands-christmas-jazz-cronks-fundraiser-12-10-2013-534
END:VEVENT

END:VCALENDAR
