BEGIN:VCALENDAR
VERSION:2.0
PRODID:-//ChamberMaster//Event Calendar 2.0//EN
METHOD:PUBLISH
X-PUBLISHED-TTL:P3D
REFRESH-INTERVAL:P3D
CALSCALE:GREGORIAN
BEGIN:VEVENT
DTSTART:20130622T160000Z
DTEND:20130622T200000Z
X-MICROSOFT-CDO-ALLDAYEVENT:FALSE
SUMMARY:Newaygo Co. Kids' Day
DESCRIPTION:The 14th Annual Newaygo County Kids' Day is an event free of charge to all who attend.  Highlights of the day include free food\, games and prizes\; as well as Certified Technicians will also be available for Child Seat Safety Checks. Technicians will check for proper installation\, fit and also have the seat checked for other safety issues. \n\n\n\nThe Newaygo County Kids' Day Steering Committee is made up of Newaygo County Businesses\, Churches\, Local and State Police Officers\, City Employees along with the Newaygo Area Chamber of Commerce.   We are currently planning the 14th Annual Newaygo County Kids' Day Event.  \n\n\n\nWith the help of local businesses this event continues to be a huge success.  We hope with your support this year we can make this event bigger and better than last year.  Just a few of the things we are looking for\; local celebrities to take part in the Independent Bank Dunk Tank\, as well as groups that would like to perform on the Brooks Park Stage\, as well as sponsors for the Rock wall\, Performance Stage and Backpacks.\n\n \n\nFor your convenience we have created an on-line sponsorship and donation option\, we hope you are able to assist either financially or by providing prizes\, or other items.  If you or your business would like to make a contribution to this event either financially or in any other way please contact Newaygo Area Chamber of Commerce office at 231-652-3068 or email info@newaygonaturally.com.
X-ALT-DESC;FMTTYPE=text/html:<br />\n<span style="font-family: arial\; font-size: 16px\;">The 14th Annual Newaygo County Kids&rsquo\; Day is an event free of charge to all who attend. &nbsp\;Highlights of the day include free food\, games and prizes\; as well as Certified Technicians will also be available for Child Seat Safety Checks. Technicians will check for proper installation\, fit and also have the seat checked for other safety issues.&nbsp\;</span><br style="font-family: arial\; font-size: 16px\;" />\n<br />\n<span style="font-size:16px\;"><span style="font-family: arial\;">The Newaygo County Kids&rsquo\; Day Steering Committee is made up of Newaygo County Businesses\, Churches\, Local and State Police Officers\, City Employees along with the Newaygo Area Chamber of Commerce. &nbsp\; We are currently planning the 14th Annual Newaygo County Kids&rsquo\; Day Event. &nbsp\;</span></span><br />\n<br />\n<span style="font-size:16px\;"><span style="font-family: arial\;">With the help of local businesses this event continues to be a huge success.&nbsp\; We hope with your support this year we can make this event bigger and better than last year.&nbsp\; Just a few of the things we are looking for\; local celebrities to take part in the Independent Bank Dunk Tank\, as well as groups that would like to perform on the Brooks Park Stage\, as well as sponsors for the Rock wall\, Performance Stage and Backpacks.</span></span><br />\n&nbsp\;<br />\n<span style="font-size:16px\;"><span style="font-family: arial\;">For your convenience we have created an on-line sponsorship and donation option\, we hope you are able to assist either financially or by providing prizes\, or other items.&nbsp\; If you or your business would like to make a contribution to this event either financially or in any other way please contact Newaygo Area Chamber of Commerce office at 231-652-3068 or email info@newaygonaturally.com.</span></span><br />\n<br />\n&nbsp\;
LOCATION:Brooks Park - City Hall Plaza - Downtown Newaygo 28 State Rd. Newaygo\, MI 49337
UID:e.1709.16
SEQUENCE:3
DTSTAMP:20260421T031818Z
URL:https://www.rivercountrychamber.com/events/details/newaygo-co-kids-day-06-22-2013-16
END:VEVENT

END:VCALENDAR
