BEGIN:VCALENDAR
VERSION:2.0
PRODID:-//ChamberMaster//Event Calendar 2.0//EN
METHOD:PUBLISH
X-PUBLISHED-TTL:P3D
REFRESH-INTERVAL:P3D
CALSCALE:GREGORIAN
BEGIN:VEVENT
DTSTART;VALUE=DATE:20220716
DTEND;VALUE=DATE:20220718
TRANSP:TRANSPARENT
X-MICROSOFT-CDO-ALLDAYEVENT:TRUE
SUMMARY:Newaygo County Gus Macker
DESCRIPTION:GAME INFORMATION/REGISTRATION\n\n\nFire Up for Newaygo County Gus Macker Basketball!\n\n\n\nAmericas Original 3-on3- Basketball Tournament is coming to Newaygo MI July 16-17\, 2022!\n\n\n\nThe River Country Chamber of Commerce of Newaygo County is thrilled to bring Gus Macker Basketball to Newaygo County.  We are excited to have Cory J. Nelson Custom Homes & Contracting as a major sponsor for our inaugural tournament!  Additional sponsors who have signed on in the early planning stages are Spectrum Health Gerber Memorial and Jerry's Towing. \n\n\n\nWith ten plus sub-committees there are a lot of opportunities to get involved\, please contact Dale Richardson at 616-232-0682 or Tara Nelson 231-225-2015 with questions. \n\nSPONSORSHIP OPPORTUNITES \n \n\nFood Vendor Registration & Information
X-ALT-DESC;FMTTYPE=text/html:<div style="background: rgb(238\, 238\, 238)\; border: 1px solid rgb(204\, 204\, 204)\; padding: 5px 10px\; text-align: center\;"><a href="https://www.macker.com/local/newaygo-mi"><span style="font-size:22px\;">GAME&nbsp\;INFORMATION/REGISTRATION</span></a></div>\n<br />\n<strong><span style="font-size:18.0pt\;">Fire Up for Newaygo County Gus Macker Basketball!</span></strong><br />\n<br />\n<strong><span style="font-size:13.0pt\;">Americas Original 3-on3- Basketball Tournament is coming to Newaygo MI July 16-17\, 2022!</span></strong><br />\n<br />\n<span style="font-size:16px\;">The River Country Chamber of Commerce of Newaygo County is thrilled to bring Gus Macker Basketball to Newaygo County.&nbsp\; We are excited to have Cory J. Nelson Custom Homes &amp\; Contracting as a major sponsor for our inaugural tournament!&nbsp\; Additional sponsors who have signed on in the early planning stages are Spectrum Health Gerber Memorial and Jerry&rsquo\;s Towing.&nbsp\;<br />\n<br />\nWith ten plus sub-committees there are a lot of opportunities to get involved\, please contact Dale Richardson at 616-232-0682 or Tara Nelson 231-225-2015 with questions.&nbsp\;</span>\n\n<div style="background: rgb(238\, 238\, 238)\; border: 1px solid rgb(204\, 204\, 204)\; padding: 5px 10px\; text-align: center\;"><span style="font-size:24px\;"><a href="https://flipbookpdf.net/web/site/134b204344d83946d4e5733da66dc4a434eea19d202202.pdf.html" target="_blank">SPONSORSHIP OPPORTUNITES&nbsp\;</a></span></div>\n&nbsp\;\n\n<div style="background: rgb(238\, 238\, 238)\; border: 1px solid rgb(204\, 204\, 204)\; padding: 5px 10px\; text-align: center\;"><span style="font-size:24px\;"><a href="https://www.rivercountrychamber.com/events/details/gus-macker-food-vendors-2022-38860">Food Vendor Registration &amp\; Information</a></span></div>\n
LOCATION:Newaygo Middle School - Parking Lot 850 E 76th St Newaygo\, MI 49337
UID:e.1709.38685
SEQUENCE:3
DTSTAMP:20260422T050208Z
URL:https://www.rivercountrychamber.com/events/details/newaygo-county-gus-macker-38685
END:VEVENT

END:VCALENDAR
