BEGIN:VCALENDAR
VERSION:2.0
PRODID:-//ChamberMaster//Event Calendar 2.0//EN
METHOD:PUBLISH
X-PUBLISHED-TTL:P3D
REFRESH-INTERVAL:P3D
CALSCALE:GREGORIAN
BEGIN:VEVENT
DTSTART:20140321T230000Z
DTEND:20140322T020000Z
X-MICROSOFT-CDO-ALLDAYEVENT:FALSE
SUMMARY:Newaygo County Jazz Band Concert
DESCRIPTION:Newaygo County Jazz Band Concert\n\nFeaturing local area high school jazz bands\n\n7:00 p.m. at the Grant Fine Arts Center\n\nTicket Prices:  $10 adults  /  $5 students\n\nSee any Newaygo High School Jazz Band student for tickets
X-ALT-DESC;FMTTYPE=text/html:<p style="color: rgb(80\, 0\, 80)\; font-family: arial\, sans-serif\; font-size: 13px\;">Newaygo County Jazz Band Concert</p>\n\n<p style="color: rgb(80\, 0\, 80)\; font-family: arial\, sans-serif\; font-size: 13px\;">Featuring local area high school jazz bands</p>\n\n<p style="color: rgb(80\, 0\, 80)\; font-family: arial\, sans-serif\; font-size: 13px\;"><span class="aBn" data-term="goog_1196001121" style="border-bottom-width: 1px\; border-bottom-style: dashed\; border-bottom-color: rgb(204\, 204\, 204)\; position: relative\; top: -2px\; z-index: 0\;" tabindex="0"><span class="aQJ" style="position: relative\; top: 2px\; z-index: -1\;">7:00 p.m.</span></span>&nbsp\;at the Grant Fine Arts Center</p>\n\n<p style="color: rgb(80\, 0\, 80)\; font-family: arial\, sans-serif\; font-size: 13px\;">Ticket Prices:&nbsp\; $10 adults&nbsp\; /&nbsp\; $5 students</p>\n\n<p style="color: rgb(80\, 0\, 80)\; font-family: arial\, sans-serif\; font-size: 13px\;">See any Newaygo High School Jazz Band student for tickets</p>\n
LOCATION:Grant Fine Arts Center
UID:e.1709.823
SEQUENCE:3
DTSTAMP:20260420T154408Z
URL:https://www.rivercountrychamber.com/events/details/newaygo-county-jazz-band-concert-03-21-2014-823
END:VEVENT

END:VCALENDAR
