BEGIN:VCALENDAR
VERSION:2.0
PRODID:-//ChamberMaster//Event Calendar 2.0//EN
METHOD:PUBLISH
X-PUBLISHED-TTL:P3D
REFRESH-INTERVAL:P3D
CALSCALE:GREGORIAN
BEGIN:VEVENT
DTSTART:20210612T160000Z
DTEND:20210612T190000Z
X-MICROSOFT-CDO-ALLDAYEVENT:FALSE
SUMMARY:Newaygo County Kids' Day 2021
DESCRIPTION:Newaygo County Kids Day is an event free of charge to all who attend! Highlights of the day include free food\, games\, raffle prizes\, arts & crafts and Certified Technicians will also be available for Child Seat Safety Checks. Technicians will check for proper installation\, fit and also have the seat checked for other safety issues.\n\n\n\nThis event is hosted by various support agencies\, Police\, Fire\, Rescue\, Churches and Businesses throughout the Newaygo County area.\n\n\n\nIf you'd like to have a Free booth\, click on the link below! Feel free to advertise all you want\, but must bring an activity or give-away for kids!\n\n\n\nExhibitor Registration Here\n\n\n\nSponsorship Opportunities Here! Thank you!
X-ALT-DESC;FMTTYPE=text/html:<div animation-name:="" class="kvgmc6g5 cxmmr5t8 oygrvhab hcukyx3x c1et5uql" color:="" font-size:="" none="" segoe="" style="overflow-wrap: break-word\; margin: 0px\; font-family: " transition-property:="" ui="">\n<div dir="auto" style="font-family: inherit\; animation-name: none !important\; transition-property: none !important\;"><span style="font-size:18px\;"><span style="color:#0066ff\;"><strong>Newaygo County Kids&nbsp\;Day</strong></span> is an event free of charge to all who attend!&nbsp\;Highlights of the day include free food\, games\, raffle prizes\, arts &amp\; crafts and Certified Technicians will also be available for Child Seat Safety Checks. Technicians will check for proper installation\, fit and also have the seat checked for other safety issues.</span></div>\n</div>\n\n<div animation-name:="" class="o9v6fnle cxmmr5t8 oygrvhab hcukyx3x c1et5uql" color:="" font-size:="" none="" segoe="" style="overflow-wrap: break-word\; margin: 0.5em 0px 0px\; font-family: " transition-property:="" ui="">\n<div dir="auto" style="font-family: inherit\; animation-name: none !important\; transition-property: none !important\;"><span style="font-size:18px\;">This event is hosted by various support agencies\, Police\, Fire\, Rescue\, Churches and Businesses throughout the Newaygo County area.</span></div>\n</div>\n<br>\n<span style="font-size:18px\;">If you'd like to have a <strong><span style="color:#0066ff\;">Free</span></strong> <span style="color:#0066ff\;"><strong>booth</strong></span>\, click on the link below! Feel free to advertise all you want\, but must bring an <strong><span style="color:#0066ff\;">activity or give-away for kids</span></strong>!</span><br>\n<br>\n<strong><a href="https://www.rivercountrychamber.com/form/view/23027"><span style="font-size:18px\;">Exhibitor Registration Here</span></a><br>\n<br>\n<span style="font-size:18px\;"><a href="https://rivercountrychamber.chambermaster.com/eventregistration/register/37734">Sponsorship Opportunities Here! Thank you!</a></span></strong>
LOCATION:*NEW LOCATION DUE TO CONSTRUCTION* Riverfront Park Phase 1 (Yellow Park) Newaygo
UID:e.1709.37734
SEQUENCE:3
DTSTAMP:20260423T223454Z
URL:https://www.rivercountrychamber.com/events/details/newaygo-county-kids-day-2021-37734
END:VEVENT

END:VCALENDAR
