BEGIN:VCALENDAR
VERSION:2.0
PRODID:-//ChamberMaster//Event Calendar 2.0//EN
METHOD:PUBLISH
X-PUBLISHED-TTL:P3D
REFRESH-INTERVAL:P3D
CALSCALE:GREGORIAN
BEGIN:VEVENT
DTSTART:20230610T160000Z
DTEND:20230610T190000Z
X-MICROSOFT-CDO-ALLDAYEVENT:FALSE
SUMMARY:Newaygo County Kids' Day 2023
DESCRIPTION:The 23rd annual Newaygo County Kids Day is an afternoon full of family friendly fun! Including free lunch for kids (adults just $5)\, games\, raffle prizes\, arts & crafts and much more!\n\n\n\nA Certified Technician will also be available for Child Seat Safety Checks. Technician will check for proper installation\, fit and also have the seat checked for other safety issues.\n\n \n\n\n\nThis event continues with a mission to provide a non-threatening environment to introduce kids to law enforcement\, fire\, rescue and other support agencies. Have your kids meet our heroes in uniform\, take a tour of their emergency vehicles\, get a  photo and ask questions! They are here to meet you!\n\n\n\nCheck these booths out during the event!\n\nNewaygo Police - Free bicycle helmets to kids who may need one. 12 & Under. Must be present to have sized correctly. \n\nFamily Farm & Home - 3 Youth Kayaks to Give Away! One entry per child 12 & Under. Must be present to enter. \n\nFamily Farm & Home - Birdhouse painting\n\nRiver Country Chamber - Photo Booth with Gus Macker Mascot\n\nNewaygo County Grassroots - face painting\n\nFirst Baptist Church - Reading corner ever 1/4 hour & take away a goodie bag\n\nDpt of Health & Human Services - Gift basket raffle & activities\n\nTelamon Migrant Head Start - bag toss game\n\nFamily Health Care - lawn games\n\nWesco #40 - Decorate a Donut\n\nFremont Area Community Foundation - trivia\, penny battle & dice game\n\nWest Michigan Gellyball - GellyBall shooting booth and battle area\n\nNewaygo County VSU - toilet paper toss & bean bag toss\n\nAll Weather Seal - Games\n\nFamily of God Community Church - Plinko!\n\nFamily Enrichment Center- Take home crafts\, game\n\nAshland-Grant Fire District - Fire Truck Display & Fire Safety \n\nGrow in Love Flowers -- paper pot coloring & sunflower seed plant to take home\n\nWest Michigan Ghostbusters - Egon's Ghost Hunt\n\nRC with Me - RC Track Racing\n\nVeurink's RV Center - RV on Site\, activity\n\nTake the Step - Physical exercise challenge\n\nThe Hope Project - games\n\nCamp Newaygo - Fire pits to make your own S'more\n\nMichigan Vaccine for Choice - stickers\n\nGrant Rocket Cheer - games and program sign up\n\nHope Not Handcuffs/Fans - Inflatable Slide\n\nNever Enough Auto - Dunk Tank\n\nArbor Circle - prize wheel with give aways\n\nNewaygo County Road  Commission - Snow Plow to paint handprints on\n\nCETUSA - coloring table\n\nGrant Reformed Church - activities\n\nNewaygo County Grassroots - face painting\n\nGrace Bible Church - watercolor painting\, freeze pop giveaway\n\nHeritage Museum of Newaygo County\n\n\n\n\n\nExhibitor Information:\n\nIf you'd like to have a Free booth\, click the green register button on the right! (Must bring an activity or give-away for kids!)\n\n\n\n Set up times begins at 10:00am. Booth must be open by 12pm.\n\n  Driving into the park is prohibited. Please bring a wagon or dolly to assist. \n\n You may have informational and promotional material/items available. You may not pass out anything outside of your booth space. \n\n Signage must be family friendly. \n\n What to bring? We suggest games of all types\, arts & crafts\, treats\, face painting\, etc.  Get creative and have fun with it! \n\n Parking: Please move your vehicle to the empty lot on the corner of Wood & Justice or behind The Stream\, so guests have available parking. (With the exception of handicap guests)\n\n Road Closure: Quarterline and Justice will be closed around Brooks Park (NO PARKING). \n\n\n\n(Links in Progress)\n\n Volunteer With Us!\n\n Sponsorship Opportunities Here! Thank you!\n\n NCKD Policies & Procedures
X-ALT-DESC;FMTTYPE=text/html:<div animation-name:="" class="kvgmc6g5 cxmmr5t8 oygrvhab hcukyx3x c1et5uql" color:="" font-size:="" none="" segoe="" style="overflow-wrap: break-word\; margin: 0px\;" transition-property:="" ui="">\n<div dir="auto"><span style="font-size:16px\;">The 23rd annual Newaygo County Kids&nbsp\;Day&nbsp\;is an afternoon full of family friendly fun! Including&nbsp\;free lunch for kids (adults just $5)\, games\, raffle prizes\, arts &amp\; crafts and much more!</span></div>\n\n<div dir="auto"><br />\n<span style="font-size:16px\;">A Certified Technician&nbsp\;will also be available for Child Seat Safety Checks. Technician&nbsp\;will check for proper installation\, fit and also have the seat checked for other safety issues.</span><br />\n&nbsp\;</div>\n</div>\n\n<div animation-name:="" class="o9v6fnle cxmmr5t8 oygrvhab hcukyx3x c1et5uql" color:="" font-size:="" none="" segoe="" style="overflow-wrap: break-word\; margin: 0.5em 0px 0px\;" transition-property:="" ui="">\n<div dir="auto" style="font-family: inherit\; animation-name: none !important\; transition-property: none !important\;"><span style="font-size:16px\;">This event continues with a mission to&nbsp\;provide a non-threatening environment to introduce kids to law enforcement\, fire\, rescue and other support agencies. Have your kids meet our heroes in uniform\, take a tour of their emergency vehicles\, get a&nbsp\; photo and ask questions! They are here to meet you!<br />\n<br />\n<strong><span style="color:#006699\;">Check these booths out during the event!</span><br />\nNewaygo Police </strong>- Free bicycle helmets to kids who may need one. 12 &amp\; Under. Must be present to have sized correctly.&nbsp\;<br />\n<strong>Family Farm &amp\; Home</strong> - 3 Youth Kayaks to Give Away! One entry per child 12 &amp\; Under. Must be present to enter.&nbsp\;<br />\n<strong>Family Farm &amp\; Home</strong> - Birdhouse painting<br />\n<strong>River Country Chamber</strong> - Photo Booth&nbsp\;with Gus Macker Mascot<br />\n<strong>Newaygo County Grassroots </strong>- face painting<br />\n<strong>First Baptist Church</strong> - Reading corner ever 1/4 hour &amp\; take away a goodie bag<br />\n<strong>Dpt of Health &amp\; Human Services</strong> - Gift basket raffle &amp\; activities<br />\n<strong>Telamon Migrant Head Start </strong>- bag toss game<br />\n<strong>Family Health Care</strong> - lawn games<br />\n<strong>Wesco #40</strong> - Decorate a Donut<br />\n<strong>Fremont Area Community Foundation</strong> - trivia\, penny battle &amp\; dice game<br />\n<strong>West Michigan Gellyball</strong> - GellyBall shooting booth and battle area<br />\n<strong>Newaygo County VSU</strong> - toilet paper toss &amp\; bean bag toss<br />\n<strong>All Weather Seal</strong> - Games<br />\n<strong>Family of God Community Church</strong> - Plinko!<br />\n<strong>Family Enrichment Center</strong>- Take home crafts\, game<br />\n<strong>Ashland-Grant Fire District </strong>- Fire Truck Display &amp\; Fire Safety&nbsp\;<br />\n<strong>Grow in Love Flowers</strong> -- paper pot coloring &amp\; sunflower seed plant to take home<br />\n<strong>West Michigan Ghostbusters</strong> - Egon&#39\;s Ghost Hunt<br />\n<strong>RC with Me </strong>- RC Track Racing<br />\n<strong>Veurink&#39\;s RV Center</strong> - RV on Site\, activity<br />\n<strong>Take the Step </strong>- Physical exercise challenge<br />\n<strong>The Hope Project</strong> - games<br />\n<strong>Camp Newaygo </strong>- Fire pits to make your own S&#39\;more<br />\n<strong>Michigan Vaccine for Choice</strong> - stickers<br />\n<strong>Grant Rocket Cheer</strong> - games and program sign up<br />\n<b>Hope Not Handcuffs/Fans -</b> Inflatable Slide<br />\n<strong>Never Enough Auto</strong> - Dunk Tank<br />\n<strong>Arbor Circle </strong>- prize wheel with give aways<br />\n<strong>Newaygo County Road&nbsp\; Commission</strong> - Snow Plow to paint handprints on<br />\n<strong>CETUSA</strong> - coloring table<br />\n<strong>Grant Reformed Church </strong>- activities<br />\n<strong>Newaygo County Grassroots</strong> - face painting<br />\n<strong>Grace Bible Church </strong>- watercolor painting\, freeze pop giveaway<br />\n<strong>Heritage Museum of Newaygo County</strong><br />\n<br />\n<br />\n<strong>Exhibitor Information:</strong></span></div>\n</div>\n<span style="font-size:16px\;">If you&#39\;d like to have a<span style="color:#000000\;">&nbsp\;<strong>Free</strong>&nbsp\;<strong>booth</strong></span>\, click the green register button on the right! (Must bring an&nbsp\;<span style="color:#000000\;"><strong>activity or give-away for kids</strong></span>!)<br />\n<br />\n&diams\;Set up times begins at 10:00am. Booth must be open by 12pm.<br />\n&diams\; Driving into the park is prohibited. Please bring a wagon or dolly to assist.&nbsp\;<br />\n&diams\;You may have informational and promotional material/items available. You may not pass out anything outside of your booth space.&nbsp\;<br />\n&diams\;Signage must be family friendly.&nbsp\;<br />\n&diams\;What to bring? We suggest games of all types\, arts &amp\; crafts\, treats\, face painting\, etc.&nbsp\; Get creative and have fun with it!&nbsp\;<br />\n&diams\;Parking: Please move your vehicle to the empty lot on the corner of Wood &amp\; Justice or behind The Stream\, so guests have available parking. (With the exception of handicap guests)<br />\n&diams\;Road Closure: Quarterline and Justice will be closed around Brooks Park (NO PARKING).&nbsp\;<br />\n<br />\n(Links in Progress)<br />\n<strong><span style="color:#000000\;">&#9658\;Volunteer With Us!</span><br />\n<a href="https://chambermaster.blob.core.windows.net/userfiles/UserFiles/chambers/1709/File/Kids_Day/2023/SPONSORSHIPFORMSDRAFT2323.pdf">&#9658\;Sponsorship Opportunities Here! Thank you!</a><br />\n&#9658\;<a href="https://chambermaster.blob.core.windows.net/userfiles/UserFiles/chambers/1709/File/Kids_Day/2023/ChamberPolicies-1.12.23.pdf">NCKD Policies &amp\; Procedures</a> </strong></span><br />\n&nbsp\;
LOCATION:Brooks Park 28 State Road Newaygo\, MI
UID:e.1709.39102
SEQUENCE:3
DTSTAMP:20260421T124145Z
URL:https://www.rivercountrychamber.com/events/details/newaygo-county-kids-day-2023-39102
END:VEVENT

END:VCALENDAR
