BEGIN:VCALENDAR
VERSION:2.0
PRODID:-//ChamberMaster//Event Calendar 2.0//EN
METHOD:PUBLISH
X-PUBLISHED-TTL:P3D
REFRESH-INTERVAL:P3D
CALSCALE:GREGORIAN
BEGIN:VEVENT
DTSTART;VALUE=DATE:20130805
DTEND;VALUE=DATE:20130921
TRANSP:TRANSPARENT
X-MICROSOFT-CDO-ALLDAYEVENT:TRUE
SUMMARY:Newaygo Exposed - A Mystery Solving Photo Gallery
DESCRIPTION:PLAY FOR A CHANCE TO WIN $300+ CASH!\n\n\n\nNewaygo Exposed - is an exciting and  NEW mystery solving event that will be fun for the entire family!  All that is required is a little investigative work to determine which participating business / organization\, public park or landmark in Newaygo is represented by each "mystery photograph" on display!\n\n\n\nThis is a great way to become more familiar with twenty participating Newaygo businesses\, organizations and city services\, along with the great products and services they offer within our community and possibly win CASH.\n\n\n\nLocal map showing business / organization locations to aid with your mystery solving attempts!\n\n\n\nVisit http://newaygo-exposed.blogspot.com/ for more details!
X-ALT-DESC;FMTTYPE=text/html:<span style="color: rgb(255\, 0\, 0)\;"><strong>PLAY&nbsp\;FOR A CHANCE TO WIN $300+ CASH!</strong></span><br />\n<br />\n<span style="color: rgb(0\, 0\, 255)\;"><strong>Newaygo Exposed</strong></span> - is an exciting and &nbsp\;NEW mystery solving event that will be fun for the entire family!&nbsp\; All that is required is a little investigative work to determine which participating business / organization\, public park or landmark in Newaygo is represented by each &quot\;mystery photograph&quot\; on display!<br />\n<br />\nThis is a great way to become more familiar with&nbsp\;twenty participating Newaygo businesses\, organizations and city services\, along with the great products and services they offer within our community and possibly win CASH.<br />\n<br />\nLocal map showing business / organization locations to aid with your mystery solving attempts!<br />\n<br />\nVisit <strong><a href="http://newaygo-exposed.blogspot.com/"><span style="color: rgb(255\, 0\, 0)\;">http://newaygo-exposed.blogspot.com/</span></a></strong> for more details!
LOCATION:Photographs will be on display at The Stream building\, located at 1 State Rd.\, Newaygo\, MI 49337
UID:e.1709.261
SEQUENCE:3
DTSTAMP:20260421T005440Z
URL:https://www.rivercountrychamber.com/events/details/newaygo-exposed-a-mystery-solving-photo-gallery-08-05-2013-261
END:VEVENT

END:VCALENDAR
