BEGIN:VCALENDAR
VERSION:2.0
PRODID:-//ChamberMaster//Event Calendar 2.0//EN
METHOD:PUBLISH
X-PUBLISHED-TTL:P3D
REFRESH-INTERVAL:P3D
CALSCALE:GREGORIAN
BEGIN:VEVENT
DTSTART:20230630T180000Z
DTEND:20230630T220000Z
X-MICROSOFT-CDO-ALLDAYEVENT:FALSE
SUMMARY:Newaygo Farmers Market 2023
DESCRIPTION:Newaygo Farmers Market is located at Brooks Park in Newaygo\, Michigan. The market is opened on Friday afternoons from 2pm-6pm. You will find a variety of organic farmers\, artisans\, vendors and baked goods plus a delicious food truck! \n\n\n\nThe farmers market is opened starting Friday\, June 9th and will continue each Friday until the middle of September. \n\n\n\nUpdates on all vendors participating in the Friday market are always available on our Facebook page on Thursday afternoons. \n\n\n\nWe love dogs too\, but unfortunately due to rules set in place by the Health Department\, the Newaygo Farmers Market is NOT dog friendly. We thank you in advance for understanding. \n\n \nOur vendors take part in the following programs:\n\nSNAP\, Double Up\, Senior Fresh\, Project Fresh\, Market Senior Program\, Market Kids Program
X-ALT-DESC;FMTTYPE=text/html:<br />\n<br />\n<span style="font-size:18px\;"><span style="font-family:arial\;"><span segoe="" style="color: rgb(5\, 5\, 5)\; font-family: " ui="">Newaygo Farmers Market is located at Brooks Park in Newaygo\, Michigan. The market is opened on Friday afternoons from 2pm-6pm. You will find a variety of organic farmers\, artisans\, vendors and baked goods plus a delicious food truck!&nbsp\;<br />\n<br />\nThe farmers market is opened starting Friday\, June 9th and will continue each Friday until the middle of September.&nbsp\;</span><br />\n<br />\n<span segoe="" style="color: rgb(5\, 5\, 5)\; font-family: " ui="">Updates on all vendors participating in the Friday market are always available on our<a href="https://www.facebook.com/NewaygoFarmersMarket/photos"> Facebook page</a> on Thursday afternoons.</span><span font-size:="" segoe="" style="color: rgb(5\, 5\, 5)\; font-family: " ui="">&nbsp\;</span><br />\n<br />\n<span style="background-color: rgba(255\, 255\, 255\, 0.94)\;">We love dogs too\, but unfortunately due to rules set in place by the Health Department\, the Newaygo Farmers Market is&nbsp\;</span><span style="box-sizing: border-box\; font-weight: bolder\; background-color: rgba(255\, 255\, 255\, 0.94)\;"><u style="box-sizing: border-box\;">NOT</u></span><span style="background-color: rgba(255\, 255\, 255\, 0.94)\;">&nbsp\;dog friendly. We thank you in advance for understanding.&nbsp\;</span></span></span><br />\n&nbsp\;\n<div color:="" dir="auto" font-size:="" segoe="" style="font-family: " ui="" white-space-collapse:=""><strong>Our vendors take part in the following programs:</strong></div>\n\n<div color:="" dir="auto" font-size:="" segoe="" style="font-family: " ui="" white-space-collapse:="">SNAP\, Double Up\, Senior Fresh\, Project Fresh\, Market Senior Program\, Market Kids Program</div>\n<br />\n&nbsp\;
LOCATION:Brooks Park 28 State Road Newaygo\, MI 49337
UID:e.1709.40918
SEQUENCE:3
DTSTAMP:20260421T134734Z
URL:https://www.rivercountrychamber.com/events/details/newaygo-farmers-market-06-30-2023-40918
END:VEVENT

END:VCALENDAR
