BEGIN:VCALENDAR
VERSION:2.0
PRODID:-//ChamberMaster//Event Calendar 2.0//EN
METHOD:PUBLISH
X-PUBLISHED-TTL:P3D
REFRESH-INTERVAL:P3D
CALSCALE:GREGORIAN
BEGIN:VEVENT
DTSTART:20140321T220000Z
DTEND:20140322T003000Z
X-MICROSOFT-CDO-ALLDAYEVENT:FALSE
SUMMARY:Newaygo Jr Lion PTO School Carnival
DESCRIPTION:Join us for an evening of carnival fun! Unlimited play on games and bounce house\, unlimited cotton candy! Additional food and raffle tickets available for purchase. PTO fundraising event to benefit Newaygo elementary schools
X-ALT-DESC;FMTTYPE=text/html:Join us for an evening of carnival fun! Unlimited play on games and bounce house\, unlimited cotton candy! Additional food and raffle tickets available for purchase. PTO fundraising event to benefit Newaygo elementary schools
LOCATION:Velma Matson Upper Elementary School
UID:e.1709.583
SEQUENCE:3
DTSTAMP:20260420T154428Z
URL:https://www.rivercountrychamber.com/events/details/newaygo-jr-lion-pto-school-carnival-03-21-2014-583
END:VEVENT

END:VCALENDAR
