BEGIN:VCALENDAR
VERSION:2.0
PRODID:-//ChamberMaster//Event Calendar 2.0//EN
METHOD:PUBLISH
X-PUBLISHED-TTL:P3D
REFRESH-INTERVAL:P3D
CALSCALE:GREGORIAN
BEGIN:VEVENT
DTSTART:20240817T130000Z
DTEND:20240817T163000Z
X-MICROSOFT-CDO-ALLDAYEVENT:FALSE
SUMMARY:Newaygo Plumbing Soap Box Derby 2024
DESCRIPTION:Family Friendly Fun!\n\n\n\nReturning for 2024: We've invited local Fire Departments\, City Police Officers\, Sheriff's Department and State Troopers to compete against each other! Help us cheer them on as they battle each other for bragging rights!\n\n\n\nKid's Division: 7-15 years old\n\nAdult Division: 16 and older\n\nEmergency Services Employees\n \n\nFive basic requirements:\n 1.  Gotta GO!  Gravity powered only - NO EXTRA WEIGHT ADDED\n\n2.  Gotta TURN!\n\n3.  Gotta STOP!\n\n4.  Gotta Wear a Helmet!  ALL RIDERS\n\n5.  Gotta have permission if under 18 years old.\n\n\n\nCLICK HERE FOR VIEW OR PRINT RULES & REGISTRATION
X-ALT-DESC;FMTTYPE=text/html:<span style="color:#cc6600\;"><span style="box-sizing: border-box\; font-weight: bolder\; font-family: Arial\, Helvetica\, sans-serif\; font-size: 16px\; text-align: center\;"><span style="box-sizing: border-box\; font-size: 22px\;">Family Friendly Fun!</span></span></span><br />\n<br />\n<span style="font-size:16px\;"><em>Returning for 2024</em>: We&#39\;ve invited local Fire Departments\, City Police Officers\, Sheriff&#39\;s Department and State Troopers to compete against each other! Help us cheer them on as they battle each other for bragging rights!</span><br />\n<br />\n<span style="font-size:16px\;"><span style="box-sizing: border-box\; font-family: Arial\, Helvetica\, sans-serif\; background-color: rgba(255\, 255\, 255\, 0.94)\;">Kid&#39\;s Division: 7-15 years old<br style="box-sizing: border-box\;" />\nAdult Division: 16 and older<br style="box-sizing: border-box\;" />\nEmergency Services Employees</span></span>\n<div style="box-sizing: border-box\; font-family: Arial\, Helvetica\, sans-serif\; font-size: 16px\; background-color: rgba(255\, 255\, 255\, 0.94)\; text-align: center\;">&nbsp\;</div>\n\n<div style="box-sizing: border-box\; font-family: Arial\, Helvetica\, sans-serif\; font-size: 16px\; background-color: rgba(255\, 255\, 255\, 0.94)\;"><span style="color:#cc6600\;"><span style="font-size:16px\;"><span style="box-sizing: border-box\;"><span style="box-sizing: border-box\; font-weight: bolder\;">Five basic requirements:</span></span></span></span></div>\n<span style="font-size:16px\;"> <span style="box-sizing: border-box\; font-family: Arial\, Helvetica\, sans-serif\; background-color: rgba(255\, 255\, 255\, 0.94)\;">1.&nbsp\; Gotta GO!&nbsp\; Gravity powered only - NO EXTRA WEIGHT ADDED<br style="box-sizing: border-box\;" />\n2.&nbsp\; Gotta TURN!<br style="box-sizing: border-box\;" />\n3.&nbsp\; Gotta STOP!<br style="box-sizing: border-box\;" />\n4.&nbsp\; Gotta Wear a Helmet!&nbsp\; ALL RIDERS<br style="box-sizing: border-box\;" />\n5.&nbsp\; Gotta have permission if under 18 years old.</span></span><br />\n<br />\n<strong><span style="font-size:16px\;"><a href="https://chambermaster.blob.core.windows.net/userfiles/UserFiles/chambers/1709/File/GRANT_FESTIVAL/2024/soapboxregistration2.pdf"><span style="color:#cc6600\;">CLICK HERE FOR VIEW OR PRINT RULES &amp\; REGISTRATION</span></a></span> </strong><br />\n&nbsp\;
LOCATION:Races will take place on the hill on 120th\, by Fire Department in Grant\, MI Registration & Parking at Grant Community Church Please park trailers in the lower level parking after unloading.
UID:e.1709.41318
SEQUENCE:3
DTSTAMP:20260419T220327Z
URL:https://www.rivercountrychamber.com/events/details/newaygo-plumbing-soap-box-derby-2024-41318
END:VEVENT

END:VCALENDAR
