BEGIN:VCALENDAR
VERSION:2.0
PRODID:-//ChamberMaster//Event Calendar 2.0//EN
METHOD:PUBLISH
X-PUBLISHED-TTL:P3D
REFRESH-INTERVAL:P3D
CALSCALE:GREGORIAN
BEGIN:VEVENT
DTSTART:20211031T220000Z
DTEND:20211101T000000Z
X-MICROSOFT-CDO-ALLDAYEVENT:FALSE
SUMMARY:Newaygo Trick or Treating 2021
DESCRIPTION:Trick or Treating in City of Newaygo 10/31 6pm-8pm
X-ALT-DESC;FMTTYPE=text/html:Trick or Treating in City of Newaygo 10/31 6pm-8pm
LOCATION:
UID:e.1709.38583
SEQUENCE:3
DTSTAMP:20260425T160457Z
URL:https://www.rivercountrychamber.com/events/details/newaygo-trick-or-treating-2021-38583
END:VEVENT

END:VCALENDAR
