BEGIN:VCALENDAR
VERSION:2.0
PRODID:-//ChamberMaster//Event Calendar 2.0//EN
METHOD:PUBLISH
X-PUBLISHED-TTL:P3D
REFRESH-INTERVAL:P3D
CALSCALE:GREGORIAN
BEGIN:VEVENT
DTSTART:20140209T130000Z
DTEND:20140209T180000Z
X-MICROSOFT-CDO-ALLDAYEVENT:FALSE
SUMMARY:North American Ice Fishing Circuit Tournament
DESCRIPTION:NAIFC Tournament - Premier Ice Fishing Event.
X-ALT-DESC;FMTTYPE=text/html:NAIFC Tournament - Premier Ice Fishing Event. &nbsp\;
LOCATION:Croton Township Campground Boat Launch/Croton Dam Pond
UID:e.1709.577
SEQUENCE:3
DTSTAMP:20260420T165507Z
URL:https://www.rivercountrychamber.com/events/details/north-american-ice-fishing-circuit-tournament-02-09-2014-577
END:VEVENT

END:VCALENDAR
