BEGIN:VCALENDAR
VERSION:2.0
PRODID:-//ChamberMaster//Event Calendar 2.0//EN
METHOD:PUBLISH
X-PUBLISHED-TTL:P3D
REFRESH-INTERVAL:P3D
CALSCALE:GREGORIAN
BEGIN:VEVENT
DTSTART:20140122T133000Z
DTEND:20140122T160000Z
X-MICROSOFT-CDO-ALLDAYEVENT:FALSE
SUMMARY:Only Results Matter Workshop
DESCRIPTION:Only result$ matter\n\n	 \n\n	A workshop for people who \n\n	SERIOUSLY \n\n	want to grow their businesses\n\n	 \n\n	______________________________________________________________\n\n	\n\n	discover how to see your product or service from your customer's point of view.  You will learn how to construct an avatar of your ideal customer and then learn how to effectively communicate with them\n\n	 \n\n	______________________________________________________________\n\n	Discover your most profitable asset. Hint\, it may not be what you believe it to be.  Discover how you may be losing money every day by not leveraging this profitable asset. \n\n	 \n\n	______________________________________________________________\n\n	The 80/20 principle is likely known by most people.  But there are strategic methods to use it in your business to your great advantage.  The 80/20 principle is fractal and this single characteristic can make it extremely profitable for your business.\n\n	                    ______________________________________________________________\n\n	\n\n	Peek behind the direct marketing curtain and see the secret methods used to get you to buy products every day.  We can only allow a peek lest you turn into pixie dust! \n\n	\n\n	_____________________________________________________________\n\n	\n\n	Total Investment - $49\n\n	Your paid registration Includes a copy of Think and Grow Rich by Napoleon Hill\n\n	All workshop materials will be provided\n\n	 \n\n	Click here - Reserve my seat at the Only Result$ Matter Seminar\n\n	_____________________________________________________________\n\n	\n\n	200% money back guarantee*\n\n	\n\n	*If you don't receive $98 of value from the workshop I will \n\n	Refund your $49\, no questions asked.\n\n	\n\n	Click here - Reserve my seat at the Only Result$ Matter Seminar\n\n	\n\n	\n\n	Contact Jeff Coil (616) 608-2371\n\n	or\n\n	jcoil@ninjamarketingsolutions.com
X-ALT-DESC;FMTTYPE=text/html:<div style="text-align: center\;">\n	<span style="font-family:helvetica neue light\;"><span style="font-size:36.0pt\;">Only result</span></span><span style="color:#92d050\;"><span style="font-family:helvetica neue light\;"><span style="font-size:36.0pt\;">$ </span></span></span><span style="font-family:helvetica neue light\;"><span style="font-size:36.0pt\;">matter</span></span></div>\n<div style="text-align: center\;">\n	&nbsp\;</div>\n<div style="text-align: center\;">\n	<strong><span style="font-size:20.0pt\;">A </span></strong><strong><span style="font-family:\\@kaiti\;"><span style="font-size:20.0pt\;">workshop for people who </span></span></strong><br />\n	<strong><u><span style="color:red\;"><span style="font-family:\\@kaiti\;"><span style="font-size:20.0pt\;">SERIOUSLY </span></span></span></u></strong><br />\n	<strong><span style="font-family:\\@kaiti\;"><span style="font-size:20.0pt\;">want to grow their businesses</span></span></strong></div>\n<div style="text-align: center\;">\n	&nbsp\;</div>\n<div style="text-align: center\;">\n	<span style="color:windowtext\;"><span style="font-size:8.0pt\;">______________________________________________________________</span></span><br />\n	<br />\n	<strong><span style="font-family:telegram hplhs\;"><span style="font-size:12.0pt\;">discover how to see your product or service from your customer</span></span></strong><strong><span style="font-family:courier new\;"><span style="font-size:12.0pt\;">&rsquo\;</span></span></strong><strong><span style="font-family:telegram hplhs\;"><span style="font-size:12.0pt\;">s point of view.&nbsp\; You will learn how to construct an avatar of your ideal customer and then learn how to effectively communicate with them</span></span></strong></div>\n<div style="text-align: center\;">\n	&nbsp\;</div>\n<div style="text-align: center\;">\n	<span style="color:windowtext\;"><span style="font-size:8.0pt\;">______________________________________________________________</span></span><br />\n	<strong><span style="color:red\;"><span style="font-family:engravers mt\,serif\;"><span style="font-size:12.0pt\;">Discover your most profitable asset. Hint\, it may not be what you believe it to be.&nbsp\; Discover how you may be losing money every day by not leveraging this profitable asset. </span></span></span></strong></div>\n<div style="text-align: center\;">\n	&nbsp\;</div>\n<div style="text-align: center\;">\n	<span style="color:windowtext\;"><span style="font-size:8.0pt\;">______________________________________________________________</span></span><br />\n	<span style="font-family:britannic bold\,sans-serif\;"><span style="font-size:14.0pt\;">The 80/20 principle is likely known by most people.&nbsp\; But there are strategic methods to use it in your business to your great advantage.&nbsp\; The 80/20 principle is fractal and this single characteristic can make it extremely profitable for your business.</span></span><br />\n	<span style="color:windowtext\;"><span style="font-size:8.0pt\;">&shy\;&shy\;&shy\;&shy\;&shy\;&shy\;&shy\;&shy\;&shy\;&shy\;&shy\;&shy\;&shy\;&shy\;&shy\;&shy\;&shy\;&shy\;&shy\;&shy\;______________________________________________________________</span></span></div>\n<div style="text-align: center\;">\n	<br clear="all" />\n	<u><span style="color:red\;"><span style="font-family:imprint mt shadow\;"><span style="font-size:16.0pt\;">Peek</span></span></span></u><span style="font-family:imprint mt shadow\;"><span style="font-size:16.0pt\;"> behind the direct marketing curtain and see the secret methods used to get you to buy products every day.&nbsp\; We can only allow a peek lest you </span></span><span style="color:windowtext\;"><span style="font-family:imprint mt shadow\;"><span style="font-size:16.0pt\;">turn into</span></span></span><span style="color:red\;"><span style="font-family:imprint mt shadow\;"><span style="font-size:16.0pt\;"> pixie dust! </span></span></span><br />\n	<br />\n	<span style="color:windowtext\;"><span style="font-size:8.0pt\;">_____________________________________________________________</span></span><br />\n	<br />\n	<span style="font-family:engravers mt\,serif\;"><span style="font-size:12.0pt\;">Total Investment - $49</span></span><br />\n	<span style="font-family:engravers mt\,serif\;"><span style="font-size:12.0pt\;">Your paid registration Includes a copy of Think and Grow Rich by Napoleon Hill</span></span><br />\n	<span style="font-family:engravers mt\,serif\;"><span style="font-size:12.0pt\;">All workshop materials will be provided</span></span><br />\n	&nbsp\;<br />\n	<span style="font-family:engravers mt\,serif\;"><span style="font-size:10.0pt\;">Click here -</span></span><span style="font-family:wingdings\;"><span style="font-size:10.0pt\;">&agrave\;</span></span><a href="http://mindsofthemasters.com/?page_id=177"><span style="font-family:engravers mt\,serif\;"><span style="font-size:10.0pt\;">Reserve my seat at the Only Result$ Matter Seminar</span></span></a><br />\n	<span style="color:windowtext\;"><span style="font-size:8.0pt\;">_____________________________________________________________</span></span><br />\n	<br />\n	<u><span style="color:red\;"><span style="font-family:engravers mt\,serif\;"><span style="font-size:12.0pt\;">200% money back guarantee*</span></span></span></u><br />\n	<br />\n	<strong><span style="color:red\;"><span style="font-family:engravers mt\,serif\;"><span style="font-size:12.0pt\;">*</span></span></span></strong><span style="font-family:engravers mt\,serif\;"><span style="font-size:12.0pt\;">If you don&rsquo\;t receive $98 of value from the workshop I will </span></span><br />\n	<span style="font-family:engravers mt\,serif\;"><span style="font-size:12.0pt\;">Refund your $49\, no questions asked.</span></span><br />\n	<br />\n	<span style="color:black\;"><span style="font-family:engravers mt\,serif\;"><span style="font-size:10.0pt\;">Click here -</span></span></span><span style="color:black\;"><span style="font-family:wingdings\;"><span style="font-size:10.0pt\;">&agrave\;</span></span></span><span style="color:black\;"><span style="font-family:georgia\,serif\;"><span style="font-size:9.0pt\;"><span style="font-family:engravers mt\,serif\;"><span style="font-size:10.0pt\;"><a href="http://mindsofthemasters.com/?page_id=177">Reserve my seat at the Only Result$ Matter Seminar</a><br />\n	<br />\n	<br />\n	Contact Jeff Coil (616) 608-2371<br />\n	or<br />\n	jcoil@ninjamarketingsolutions.com</span></span></span></span></span><br />\n	&nbsp\;</div>\n
LOCATION:ITT Technical Institute 3518 Plainfield Ave NE Grand Rapids\, MI 49525
UID:e.1709.557
SEQUENCE:3
DTSTAMP:20260420T180830Z
URL:https://www.rivercountrychamber.com/events/details/only-results-matter-workshop-01-22-2014-557
END:VEVENT

END:VCALENDAR
