BEGIN:VCALENDAR
VERSION:2.0
PRODID:-//ChamberMaster//Event Calendar 2.0//EN
METHOD:PUBLISH
X-PUBLISHED-TTL:P3D
REFRESH-INTERVAL:P3D
CALSCALE:GREGORIAN
BEGIN:VEVENT
DTSTART:20131205T170000Z
DTEND:20131207T020000Z
X-MICROSOFT-CDO-ALLDAYEVENT:FALSE
SUMMARY:Open Hearts Quilt Display
DESCRIPTION:Open Hearts Quilt Display\; Old and new quilts from community quilters will be displayed for your viewing pleasure. People's Choice Award voting open both Thursday & Friday.\n\n	\n\n	Wanted:\n\n	Persons from community are invited to display their quilts\, if you have a quilt you would like to display please contact Deb Prins at Newaygo UMC at 231-652-6581.  If you have quilt racks that could be used for displaying the quilts or have any other questions please contact Deb Prins.  There will be persons from the church on hand at all times while quilt display is open.
X-ALT-DESC;FMTTYPE=text/html:<p class="MsoNormal" style="margin: 0in 0in 10pt\;">\n	<br />\n	<font size="3"><strong><u><span lang="EN" style="color: rgb(34\, 34\, 34)\; font-family: &quot\;Comic Sans MS&quot\;\; mso-bidi-font-family: Arial\; mso-ansi-language: EN\;">Open Hearts Quilt Display\; Old and new quilts from community quilters will be displayed for your viewing pleasure.</span></u></strong><span lang="EN" style="color: rgb(34\, 34\, 34)\; font-family: &quot\;Comic Sans MS&quot\;\; mso-bidi-font-family: Arial\; mso-ansi-language: EN\;">&nbsp\;People&#39\;s Choice Award voting open both Thursday &amp\; Friday.</span><br />\n	<br />\n	<span style="color:#ff0000\;"><span lang="EN" style="font-family: 'Comic Sans MS'\;">Wanted:</span></span><br />\n	<span lang="EN" style="color: rgb(34\, 34\, 34)\; font-family: &quot\;Comic Sans MS&quot\;\; mso-bidi-font-family: Arial\; mso-ansi-language: EN\;">Persons from community are invited to display their quilts\, if you have a quilt you would like to display please contact Deb Prins at Newaygo UMC at 231-652-6581.<span style="mso-spacerun: yes\;">&nbsp\; </span>If you have quilt racks that could be used for displaying the quilts or have any other questions please contact Deb Prins.<span style="mso-spacerun: yes\;">&nbsp\; </span>There will be persons from the church on hand at all times while quilt display is open.<o:p></o:p></span></font></p>\n
LOCATION:Newaygo United Methodist Church 101 State Road - downtown Newaygo "the church with the red doors"
UID:e.1709.468
SEQUENCE:3
DTSTAMP:20260420T193829Z
URL:https://www.rivercountrychamber.com/events/details/open-hearts-quilt-display-12-05-2013-468
END:VEVENT

END:VCALENDAR
