BEGIN:VCALENDAR
VERSION:2.0
PRODID:-//ChamberMaster//Event Calendar 2.0//EN
METHOD:PUBLISH
X-PUBLISHED-TTL:P3D
REFRESH-INTERVAL:P3D
CALSCALE:GREGORIAN
BEGIN:VEVENT
DTSTART:20140516T150000Z
DTEND:20140517T000000Z
X-MICROSOFT-CDO-ALLDAYEVENT:FALSE
SUMMARY:Open House at La Belle de la Riviere Bed and Breakfast
DESCRIPTION:Everyone is welcome to stop by and tour the Bed and Breakfast as well as our grounds. Stay for a burger or hot dog. We will have yard games for all ages. We will have refreshments but if you would like to have an adult beverage you may bring your own. We will have drawings for prizes including a FREE night stay at the beautiful La Belle de la Riviere!
X-ALT-DESC;FMTTYPE=text/html:Everyone is welcome to stop by and tour the Bed and Breakfast as well as our grounds. Stay for a burger or hot dog. We will have yard games for all ages. We will have refreshments but if you would like to have an adult beverage you may bring your own. We will have drawings for prizes including a FREE night stay at the beautiful La Belle de la Riviere!
LOCATION:La Belle de la Riviere Bed and Breakfast. 120 State Rd. (M37) Newaygo\, MI 49337
UID:e.1709.895
SEQUENCE:3
DTSTAMP:20260420T130511Z
URL:https://www.rivercountrychamber.com/events/details/open-house-at-la-belle-de-la-riviere-bed-and-breakfast-05-16-2014-895
END:VEVENT

END:VCALENDAR
