BEGIN:VCALENDAR
VERSION:2.0
PRODID:-//ChamberMaster//Event Calendar 2.0//EN
METHOD:PUBLISH
X-PUBLISHED-TTL:P3D
REFRESH-INTERVAL:P3D
CALSCALE:GREGORIAN
BEGIN:VEVENT
DTSTART:20140427T160000Z
DTEND:20140427T200000Z
X-MICROSOFT-CDO-ALLDAYEVENT:FALSE
SUMMARY:Open House @ Camp Newaygo
DESCRIPTION:Camp Newaygo offers co-ed Day Camp options for girls AND boys in kindergarten through fifth grade\, for fun and adventure including archery\, canoeing\, and swimming.  Since 1926\, generations of girls aged 7 - 17 have cherished Camp Newaygo and come to spend their summers surrounded by woods and water at their girl's summer resident camps. It's more than a tradition or even a heritage\; it's a legacy\, and it continues to leave its mark on current and future generations.\n\nFor kids who have never attended camp though\, the prospect can be a little daunting\; not only for them but for their parents as well. To help alleviate that\, Camp Newaygo is offering a free Open House on Sunday\, April 27 from noon till 4:00 PM. This is a great opportunity to tour the facilities\, get information on day and resident camps\, and meet the staff at Camp Newaygo. It's a chance to "test drive" Camp and see what they're all about.\n\nThe Open House is at Camp Newaygo\, located at 5333 Centerline Rd.\, Newaygo. For more information call (231) 652-1184 or visit www.campnewaygo.org
X-ALT-DESC;FMTTYPE=text/html:<div class="articleEntry Normal">\n<p><span>Camp Newaygo offers co-ed Day Camp options for girls AND boys in kindergarten through fifth grade\, for fun and adventure including archery\, canoeing\, and swimming.&nbsp\; Since 1926\, generations of girls aged 7 - 17 have cherished Camp Newaygo and come to spend their summers surrounded by woods and water at their girl&rsquo\;s summer resident camps. It&rsquo\;s more than a tradition or even a heritage\; it&rsquo\;s a legacy\, and it continues to leave its mark on current and future generations.</span></p>\n\n<p><span>For kids who have never attended camp though\, the prospect can be a little daunting\; not only for them but for their parents as well. To help alleviate that\, Camp Newaygo is offering a free Open House on Sunday\, April 27 from noon till 4:00 PM. This is a great opportunity to t</span><span style="color: black\;">our the facilities\, get information on day and resident camps\, and meet the staff at Camp Newaygo. It&rsquo\;s a chance to &ldquo\;test drive&rdquo\; Camp and see what they&rsquo\;re all about.</span></p>\n\n<p><span>The Open House is at Camp Newaygo\, located </span><span class="A2">at 5333 Centerline Rd.\, Newaygo. For more information call (231) 652-1184 or visit www.campnewaygo.org </span></p>\n</div>\n
LOCATION:Camp Newaygo\, located at 5333 Centerline Rd.\, Newaygo
UID:e.1709.884
SEQUENCE:3
DTSTAMP:20260420T142231Z
URL:https://www.rivercountrychamber.com/events/details/open-house-camp-newaygo-04-27-2014-884
END:VEVENT

END:VCALENDAR
