BEGIN:VCALENDAR
VERSION:2.0
PRODID:-//ChamberMaster//Event Calendar 2.0//EN
METHOD:PUBLISH
X-PUBLISHED-TTL:P3D
REFRESH-INTERVAL:P3D
CALSCALE:GREGORIAN
BEGIN:VEVENT
DTSTART:20220322T200000Z
DTEND:20220322T230000Z
X-MICROSOFT-CDO-ALLDAYEVENT:FALSE
SUMMARY:Open House Celebration
DESCRIPTION:River Country Chamber President Dale Richardson wants to send Colleen off in proper style. "Our Board will be hosting a celebration Open House for Colleen on Tuesday\, March 22nd\, from 4:00-7:00 PM at The Stream Building\, second floor\, in downtown Newaygo.  We encourage friends\, family\, Chamber Members\, and anyone who knows Colleen to come by and say thank you to this very special businesswomen and friend of Newaygo County for a job very well done".\n\n\n\nLynema serves as Executive Director for over a decade. "It is hard to overstate the overwhelmingly positive impact Colleen has had on moving our county forward over the past ten-plus years"\, stated Scott Faulkner\, who was Chamber Board President in 2011\, the year Lynema was hired. "Her ability to really connect with people\, build trusting relationships that last\, and help businesses grow is her legacy."
X-ALT-DESC;FMTTYPE=text/html:<span style="color: rgb(51\, 51\, 51)\; font-family: Arial\, Helvetica\, sans-serif\; font-size: 16px\; background-color: rgba(255\, 255\, 255\, 0.94)\;">River Country Chamber President Dale Richardson wants to send Colleen off in proper style. &ldquo\;Our Board will be hosting a celebration Open House for Colleen on Tuesday\, March 22nd\, from 4:00-7:00 PM at The Stream Building\, second floor\, in downtown Newaygo.&nbsp\; We encourage friends\, family\, Chamber Members\, and anyone who knows Colleen to come by and say thank you to this very special businesswomen and friend of Newaygo County for a job very well done&rdquo\;.<br />\n<br />\nLynema serves as Executive Director for over a decade. &ldquo\;It is hard to overstate the overwhelmingly positive impact Colleen has had on moving our county forward over the past ten-plus years&rdquo\;\, stated Scott Faulkner\, who was Chamber Board President in 2011\, the year Lynema was hired. &ldquo\;Her ability to really connect with people\, build trusting relationships that last\, and help businesses grow is her legacy.&rdquo\;</span>
LOCATION:The Stream 1 State Road Newaygo\, MI 49337
UID:e.1709.38819
SEQUENCE:3
DTSTAMP:20260424T074605Z
URL:https://www.rivercountrychamber.com/events/details/open-house-celebration-38819
END:VEVENT

END:VCALENDAR
