BEGIN:VCALENDAR
VERSION:2.0
PRODID:-//ChamberMaster//Event Calendar 2.0//EN
METHOD:PUBLISH
X-PUBLISHED-TTL:P3D
REFRESH-INTERVAL:P3D
CALSCALE:GREGORIAN
BEGIN:VEVENT
DTSTART:20131026T120000Z
DTEND:20131026T150000Z
X-MICROSOFT-CDO-ALLDAYEVENT:FALSE
SUMMARY:Pancake Breakfast at Newaygo United Methodist Church
DESCRIPTION:All you can eat pancake breakfast.  By donation.  All you can eat pancakes\, sausage\, scrambled eggs\, fried potatoes\, biscuits and gravy and drink.
X-ALT-DESC;FMTTYPE=text/html:<br />\n<span style="font-size: 16px\;">All you can eat pancake breakfast.&nbsp\; <strong>By donation.</strong>&nbsp\; All you can eat pancakes\, sausage\, scrambled eggs\, fried potatoes\, biscuits and gravy and drink.</span>
LOCATION:Newaygo United Methodist Church\, 101 State Road (downtown Newaygo) "The church with the red doors"
UID:e.1709.465
SEQUENCE:3
DTSTAMP:20260420T221820Z
URL:https://www.rivercountrychamber.com/events/details/pancake-breakfast-at-newaygo-united-methodist-church-10-26-2013-465
END:VEVENT

END:VCALENDAR
