BEGIN:VCALENDAR
VERSION:2.0
PRODID:-//ChamberMaster//Event Calendar 2.0//EN
METHOD:PUBLISH
X-PUBLISHED-TTL:P3D
REFRESH-INTERVAL:P3D
CALSCALE:GREGORIAN
BEGIN:VEVENT
DTSTART:20140208T120000Z
DTEND:20140208T220000Z
X-MICROSOFT-CDO-ALLDAYEVENT:FALSE
SUMMARY:Parsley's Ice Fishing Contest
DESCRIPTION:Ice Fishing Contest.....any Lake. Bluegill\, Specs\, Perch\, and Pike.\n\n\n\n1st and 2nd place in each species. Weigh-in anytime between 2pm and 5pm at Parsley's Sport Shop\, downtown Newaygo.\n\n\n\nNo registration required\; free to enter fish.
X-ALT-DESC;FMTTYPE=text/html:<br />\nIce Fishing Contest.....any Lake. Bluegill\, Specs\, Perch\, and Pike.<br />\n<br />\n1st and 2nd place in each species. Weigh-in anytime between 2pm and 5pm at Parsley&#39\;s Sport Shop\, downtown Newaygo.<br />\n<br />\nNo registration required\; free to enter fish.
LOCATION:FISH ANY LAKE/BODY OF WATER
UID:e.1709.581
SEQUENCE:3
DTSTAMP:20260420T165459Z
URL:https://www.rivercountrychamber.com/events/details/parsley-s-ice-fishing-contest-02-08-2014-581
END:VEVENT

END:VCALENDAR
