BEGIN:VCALENDAR
VERSION:2.0
PRODID:-//ChamberMaster//Event Calendar 2.0//EN
METHOD:PUBLISH
X-PUBLISHED-TTL:P3D
REFRESH-INTERVAL:P3D
CALSCALE:GREGORIAN
BEGIN:VEVENT
DTSTART:20140325T220000Z
DTEND:20140326T010000Z
X-MICROSOFT-CDO-ALLDAYEVENT:FALSE
SUMMARY:Performing Arts Night Dinner/Silent Auction/ Live Entertainment
DESCRIPTION:Annual Performing Arts Night featuring the Instrumental Music Students of Newaygo Public Schools\n\nDinner and Performances begin at 6:00 p.m.\n\nSilent Auction throughout the evening\n\nTicket Prices:  $10 adults  /  $5 students  /  Age 5 and under eat free\n\nSee any Newaygo Band student (Grades 6-12) for tickets\n\n\n\nSome Silent auction Items include Themed Gift baskets\, Tickets for various businesses such as the Craigs Cruisers\, John Ball Zoo\,  GR Symphony \,   Meyer Music\,  Celebration Cinema \,   Lewis Farm Market & Petting Farm in New Era\,  Westgate Bowling\, 4 adult tickets for the U of M School Music\, Theater & Dance\,  as well as Four passes to the Grand Rapids Children's Museum\, A one night stay (Mon-Thur) in the hot tub room at The Shack and an autographed picture of Brendan Smith   Detroit Red Wings. Come by to see the rest of the items that will be up for auction.
X-ALT-DESC;FMTTYPE=text/html:<p style="color: rgb(80\, 0\, 80)\; font-family: arial\, sans-serif\; font-size: 13px\;">&nbsp\;</p>\n\n<p style="color: rgb(80\, 0\, 80)\; font-family: arial\, sans-serif\; font-size: 13px\;"><span style="color:#000000\;">Annual Performing Arts Night featuring the Instrumental Music Students of Newaygo Public Schools</span></p>\n\n<p style="color: rgb(80\, 0\, 80)\; font-family: arial\, sans-serif\; font-size: 13px\;"><span style="color:#000000\;">Dinner and Performances begin at&nbsp\;<span class="aBn" data-term="goog_1196001123" style="border-bottom-width: 1px\; border-bottom-style: dashed\; border-bottom-color: rgb(204\, 204\, 204)\; position: relative\; top: -2px\; z-index: 0\;" tabindex="0"><span class="aQJ" style="position: relative\; top: 2px\; z-index: -1\;">6:00 p.m.</span></span></span></p>\n\n<p style="color: rgb(80\, 0\, 80)\; font-family: arial\, sans-serif\; font-size: 13px\;"><span style="color:#000000\;">Silent Auction throughout the evening</span></p>\n\n<p style="color: rgb(80\, 0\, 80)\; font-family: arial\, sans-serif\; font-size: 13px\;"><span style="color:#000000\;">Ticket Prices:&nbsp\; $10 adults&nbsp\; /&nbsp\; $5 students&nbsp\; /&nbsp\; Age 5 and under eat free</span></p>\n\n<p style="color: rgb(80\, 0\, 80)\; font-family: arial\, sans-serif\; font-size: 13px\;"><span style="color:#000000\;">See any Newaygo Band student (Grades 6-12) for tickets<br />\n<br />\nSome Silent auction Items include Themed Gift baskets\, Tickets for various businesses such as the Craigs Cruisers\, John Ball Zoo\,&nbsp\;<span style="font-family: Arial\, Verdana\, sans-serif\; font-size: 12px\;">&nbsp\;GR Symphony </span><span style="font-family: Arial\, Verdana\, sans-serif\; font-size: 12px\;">\,&nbsp\;</span><span style="font-family: Arial\, Verdana\, sans-serif\; font-size: 12px\;">&nbsp\; Meyer Music\,&nbsp\;</span><span style="font-family: Arial\, Verdana\, sans-serif\; font-size: 12px\;">&nbsp\;Celebration Cinema \,</span><span style="font-family: Arial\, Verdana\, sans-serif\; font-size: 12px\;">&nbsp\;</span><span style="font-family: Arial\, Verdana\, sans-serif\; font-size: 12px\;">&ndash\; Lewis Farm Market &amp\; Petting Farm in New Era\,&nbsp\;</span><span style="font-family: Arial\, Verdana\, sans-serif\; font-size: 12px\;">&nbsp\;Westgate Bowling\,</span><span style="font-family: Arial\, Verdana\, sans-serif\; font-size: 12px\;">&nbsp\;4 adult tickets for the U of M School Music\, Theater &amp\; Dance\, &nbsp\;as well as&nbsp\;</span><span style="font-family: Arial\, Verdana\, sans-serif\; font-size: 12px\;">Four passes to the Grand Rapids Children&rsquo\;s Museum\,&nbsp\;</span><span style="font-family: Arial\, Verdana\, sans-serif\; font-size: 12px\;">A one night stay (Mon-Thur) in the hot tub room at The Shack and a</span><span style="font-family: Arial\, Verdana\, sans-serif\; font-size: 12px\;">n autographed picture of Brendan Smith &ndash\; Detroit Red Wings. Come by to see the rest of the items that will be up for auction.&nbsp\;</span></span></p>\n
LOCATION:Newaygo Middle School
UID:e.1709.824
SEQUENCE:3
DTSTAMP:20260420T165310Z
URL:https://www.rivercountrychamber.com/events/details/performing-arts-night-dinner-silent-auction-live-entertainment-03-25-2014-824
END:VEVENT

END:VCALENDAR
