BEGIN:VCALENDAR
VERSION:2.0
PRODID:-//ChamberMaster//Event Calendar 2.0//EN
METHOD:PUBLISH
X-PUBLISHED-TTL:P3D
REFRESH-INTERVAL:P3D
CALSCALE:GREGORIAN
BEGIN:VEVENT
DTSTART:20140208T140000Z
DTEND:20140208T200000Z
X-MICROSOFT-CDO-ALLDAYEVENT:FALSE
SUMMARY:Polar Chili Challenge Sponsored by Jimmy's Roadhouse
DESCRIPTION:Chili recipes come and go\, but its the winners of Chili Cook Offs that live on in infamy.  Will you add your teams name to the polar chili challenge trophy and share that honor with those that have cooked before you?\n\n\n\nShare your Chili but not your recipe and win the honor of being the Polar Chili Challenge Champion. Oh and the cash prize is a nice perk too!\n\n\n\nEvent is scheduled for Saturday February 8 regardless of snow\; registration and payment options are open now through Feb 7.  Register your team today!!!!!\n\n\n\nClick here for a complete list of Dam Good WinterFest Polar Chili Challenge Rules\n\n\n\nSponsorship opportunities are available\; contact the Chamber Office for details 231-652-3068 or email info@rivercountrychamber.com
X-ALT-DESC;FMTTYPE=text/html:<br />\n<span style="font-size:16px\;"><span style="font-family:comic sans ms\;"><span style="font-size:24px\;">C</span>hili recipes come and go\, but its the winners of Chili Cook Offs that live on in infamy. &nbsp\;Will you add your teams name to the polar chili challenge trophy and share that honor with those that have cooked before you?<br />\n<br />\nShare your Chili but not your recipe and win the honor of being the Polar Chili Challenge Champion. Oh and the cash prize is a nice perk too!<br />\n<br />\nEvent is scheduled for Saturday February 8 regardless of snow\; registration and payment options are open now through Feb 7. &nbsp\;Register your team today!!!!!<br />\n<br />\n<a href="http://cloud.chambermaster.com/userfiles/UserFiles/chambers/1709/File/Dam_Good_WinterFest/Chili_Challenge/PolarChiliChallenge3.pdf"><span style="color:#ffffff\;"><span style="background-color:#0000ff\;">Click here for a complete list of Dam Good </span><span style="background-color:#0000ff\;">WinterFest</span><span style="background-color:#0000ff\;"> Polar Chili Challenge Rules</span></span></a></span></span><br />\n<br />\n<em><strong><span style="font-size:14px\;"><span style="font-family:comic sans ms\;">Sponsorship opportunities are available\; contact the Chamber Office for details 231-652-3068 or email <a href="mailto:info@rivercountrychamber.com?subject=Chili%20Challenge%20Sponsorship%20Opportunities">info@rivercountrychamber.com</a></span></span></strong></em>
LOCATION:Jimmy's Roadhouse Outdoors\; Under the big tent
UID:e.1709.562
SEQUENCE:3
DTSTAMP:20260420T165457Z
URL:https://www.rivercountrychamber.com/events/details/polar-chili-challenge-sponsored-by-jimmy-s-roadhouse-02-08-2014-562
END:VEVENT

END:VCALENDAR
