BEGIN:VCALENDAR
VERSION:2.0
PRODID:-//ChamberMaster//Event Calendar 2.0//EN
METHOD:PUBLISH
X-PUBLISHED-TTL:P3D
REFRESH-INTERVAL:P3D
CALSCALE:GREGORIAN
BEGIN:VEVENT
DTSTART;VALUE=DATE:20140208
DTEND;VALUE=DATE:20140209
TRANSP:TRANSPARENT
X-MICROSOFT-CDO-ALLDAYEVENT:TRUE
SUMMARY:Polar Power Softball Tournament
DESCRIPTION:The Polar Power Softball Tournament is back for it's 2nd year.  Held on Croton Pond behind the Driftwood Bar & Grill teams competing on two neighboring diamonds out on the ice for the title of this years Polar Power Softball Champion. Teams are limited to 10 this year so don't wait to register - deposit of $75.00 required to reserve your spot.  Payment in full is due no later than February 5th\n\n \n\nThe winning team will receive an official Polar Power Champion T-shirt and all registered players will receive a Polar Power participant t-shirt. Click here for complete rules\n\n\n\nEvent to be held on Saturday Feb 8th\, 2014 \n\n\n\nCheck in - 7:30 am - Games start at 8:00 am sharp\n\n \n\nFinal roster must be submitted prior to first game. Max is up to 15 players per team. Game will consist of 10 players on the field with up to 12 batters in the lineup.\n \n\nPOWER CO-ED 3 FEMALES MUST BE ON THE FIELD AT ALL TIMES\n\n\n\nCLICK HERE TO VIEW PHOTOS FROM LAST YEAR
X-ALT-DESC;FMTTYPE=text/html:<h5 class="uiStreamMessage userContentWrapper" data-ft="{" style="font-size: 11px\; color: rgb(0\, 0\, 0)\; margin: 0px 0px 5px\; padding: 0px\; word-break: break-word\; word-wrap: break-word\; font-weight: normal\; font-family: 'lucida grande'\, tahoma\, verdana\, arial\, sans-serif\; line-height: 14px\;"><br />\n<span class="messageBody" style="color: rgb(51\, 51\, 51)\; font-size: 13px\; line-height: 1.38\;"><em><strong><span style="font-size:14px\;">The Polar Power Softball Tournament is back for it&#39\;s 2nd year.&nbsp\;</span></strong></em>&nbsp\;Held on Croton Pond behind the Driftwood Bar &amp\; Grill teams competing on two neighboring diamonds out on the ice for the title of this years Polar Power Softball Champion. Teams </span><span style="color: rgb(51\, 51\, 51)\; font-size: 13px\; line-height: 1.38\;">are limited to 10 this year so don&#39\;t wait to register</span><span class="messageBody" style="color: rgb(51\, 51\, 51)\; font-size: 13px\; line-height: 1.38\;">&nbsp\;- deposit of $75.00 required to reserve your spot. &nbsp\;Payment in full is due no later than February 5th</span><br />\n&nbsp\;</h5>\n\n<h5 class="uiStreamMessage userContentWrapper" data-ft="{" style="font-size: 11px\; color: rgb(0\, 0\, 0)\; margin: 0px 0px 5px\; padding: 0px\; word-break: break-word\; word-wrap: break-word\; font-weight: normal\; font-family: 'lucida grande'\, tahoma\, verdana\, arial\, sans-serif\; line-height: 14px\;"><span style="color: rgb(51\, 51\, 51)\; font-size: 13px\; line-height: 1.38\;">The winning team will receive an official Polar Power Champion T-shirt and all registered players will receive a Polar Power participant t-shirt. </span><a href="http://cloud.chambermaster.com/userfiles/UserFiles/chambers/1709/File/Dam_Good_WinterFest/Softball_Tournament/PolarPowerSoftballTournament.rulesdocx.pdf" style="font-size: 13px\; line-height: 1.38\;"><em><strong><span style="font-size:16px\;"><span style="font-family:comic sans ms\;">Click here for complete rules</span></span></strong></em></a></h5>\n\n<h5 class="uiStreamMessage userContentWrapper" data-ft="{" style="font-size: 11px\; color: rgb(0\, 0\, 0)\; margin: 0px 0px 5px\; padding: 0px\; word-break: break-word\; word-wrap: break-word\; font-weight: normal\; font-family: 'lucida grande'\, tahoma\, verdana\, arial\, sans-serif\; line-height: 14px\;"><br />\n<span class="messageBody" style="color: rgb(51\, 51\, 51)\; font-size: 13px\; line-height: 1.38\;">Event to be held on Saturday Feb 8th\,<span class="text_exposed_show" style="display: inline\;">&nbsp\;2014&nbsp\;<br />\n<br />\nCheck in - 7:30 am - Games start at 8:00 am sharp</span></span><br />\n&nbsp\;</h5>\n\n<h5 class="uiStreamMessage userContentWrapper" data-ft="{" style="font-size: 11px\; color: rgb(0\, 0\, 0)\; margin: 0px 0px 5px\; padding: 0px\; word-break: break-word\; word-wrap: break-word\; font-weight: normal\; font-family: 'lucida grande'\, tahoma\, verdana\, arial\, sans-serif\; line-height: 14px\;"><span class="messageBody" style="color: rgb(51\, 51\, 51)\; font-size: 13px\; line-height: 1.38\;">Final roster must be submitted prior to first game. Max is up to 15 players per team. Game will consist of 10 players on the field with up to 12 batters in the lineup.</span></h5>\n&nbsp\;\n\n<h5 class="uiStreamMessage userContentWrapper" data-ft="{" style="font-size: 11px\; color: rgb(0\, 0\, 0)\; margin: 0px 0px 5px\; padding: 0px\; word-break: break-word\; word-wrap: break-word\; font-weight: normal\; font-family: 'lucida grande'\, tahoma\, verdana\, arial\, sans-serif\; line-height: 14px\;"><em><strong><span class="messageBody" style="color: rgb(51\, 51\, 51)\; font-size: 13px\; line-height: 1.38\;">POWER CO-ED 3 FEMALES MUST BE ON THE FIELD AT ALL TIMES</span></strong></em></h5>\n\n<div style="text-align: center\;"><br />\n<span style="font-size:14px\;"><span style="font-family:comic sans ms\;"><strong><a href="https://www.facebook.com/media/set/?set=a.498384600204374.112841.127460087296829&amp\;type=1&amp\;l=41c7190746">CLICK HERE TO VIEW PHOTOS FROM LAST YEAR</a></strong></span></span></div>\n
LOCATION:On the ice behind Driftwood Bar & Grill WEATHER- This tournament is an OUTDOOR tournament. It will be played in just about all weather conditions. In the event the ice is deemed unsafe for play the tournament will be played at the alternate site of Hardy Dam Recreation Park on South Croton Drive
UID:e.1709.560
SEQUENCE:3
DTSTAMP:20260420T165229Z
URL:https://www.rivercountrychamber.com/events/details/polar-power-softball-tournament-02-08-2014-560
END:VEVENT

END:VCALENDAR
