BEGIN:VCALENDAR
VERSION:2.0
PRODID:-//ChamberMaster//Event Calendar 2.0//EN
METHOD:PUBLISH
X-PUBLISHED-TTL:P3D
REFRESH-INTERVAL:P3D
CALSCALE:GREGORIAN
BEGIN:VEVENT
DTSTART:20220426T170000Z
DTEND:20220426T180000Z
X-MICROSOFT-CDO-ALLDAYEVENT:FALSE
SUMMARY:QuickBooks Webinar Series
DESCRIPTION:How well do you capture and understand your business financials?\n\n\n\nDuring this 8-episode webinar series\, SBDC will cover QuickBooks and how to maximize this tool for your small business. This will include setting up QuickBooks to budgeting and how to understand your numbers and more!\n\n\n\nThe webinar series is sponsored by Intuit.\n\n \nLEARN MORE & REGISTRATION INFORMATION\n \n\nQuickBooks - Session 7\n\nBy MI-SBDC Lead Center\n\nThis is the seventh of eight webinar sessions covering QuickBooks. In this session\, we will cover the following topics.\n\n \n\nBudgeting\n\nLearn about projecting your income and expenses and comparing to actuals and review the set up and management process of a budget.\n\n \n\nSub Customers & Projects\n\nLearn how to manage projects and customers with multiple jobs. Understand the difference between Customers\, Sub-customers and Projects.\n\n \n\nSpeaker:\n\nMichelle Mitchell\n\nOwner\, Mitchell Consulting\n\nQuickBooks ProAdvisor\n\n \n\n  We will be unable to provide technical assistance for accessing the webinar beginning 30 minutes prior to the start of the webinar.\n\n  This webinar will take place using GoToWebinar. If you have not used GoToWebinar before\, and/or would like to check the compatibility of your computer/mobile device with GoToWebinar\, please visit https://support.goto.com/webinar/system-check-attendee.\n\n  Reasonable accommodations for persons with disabilities will be made if requested in advance.\n\n  Contact Ian Rogers at rogersia@gvsu.edu.
X-ALT-DESC;FMTTYPE=text/html:How well do you capture and understand your business financials?<br />\n<br />\nDuring this 8-episode webinar series\, SBDC will cover QuickBooks and how to maximize this tool for your small business. This will include setting up QuickBooks to budgeting and how to understand your numbers and more!<br />\n<br />\nThe webinar series is sponsored by Intuit.<br />\n&nbsp\;\n<div style="background: rgb(238\, 238\, 238)\; border: 1px solid rgb(204\, 204\, 204)\; padding: 5px 10px\; text-align: center\;"><a href="https://events.blackthorn.io/en/5Y1bSaM7/g/3m508x45e5/quickbooks-session-7-5a1t5YKzoKZ/overview" target="_blank"><strong>LEARN MORE &amp\; REGISTRATION INFORMATION</strong></a></div>\n&nbsp\;\n\n<div _ngcontent-fuj-c179="" class="event-name" helvetica="" style="color: rgba(0\, 0\, 0\, 0.87)\; font-size: 1.5rem\; margin: 0px 0px 0.5rem\; text-overflow: ellipsis\; width: auto\; max-height: 7.1875rem\; overflow: hidden\; font-family: Roboto\, ">QuickBooks - Session 7</div>\n\n<h2 _ngcontent-fuj-c179="" class="organizer-name ng-star-inserted" helvetica="" style="color: var(--surfaceTextSemiMutedColor)\; font-size: 1rem\; margin-top: 0px\; text-overflow: ellipsis\; font-family: Roboto\, ">By MI-SBDC Lead Center</h2>\n\n<p style="font-size: 0.75rem\; line-height: calc(1.5rem*var(--lineHeightFactor))\; word-break: break-word\; margin: -0.25rem 0px\; color: rgba(0\, 0\, 0\, 0.87)\; font-family: Roboto\, &quot\;Helvetica Nueue&quot\;\, Helvetica\, sans-serif\;"><span style="font-size: 14px\;">This is the seventh of eight webinar sessions covering QuickBooks. In this session\, we will cover the following topics.</span></p>\n\n<p style="font-size: 0.75rem\; line-height: calc(1.5rem*var(--lineHeightFactor))\; word-break: break-word\; margin: -0.25rem 0px\; color: rgba(0\, 0\, 0\, 0.87)\; font-family: Roboto\, &quot\;Helvetica Nueue&quot\;\, Helvetica\, sans-serif\;">&nbsp\;</p>\n\n<p style="font-size: 0.75rem\; line-height: calc(1.5rem*var(--lineHeightFactor))\; word-break: break-word\; margin: -0.25rem 0px\; color: rgba(0\, 0\, 0\, 0.87)\; font-family: Roboto\, &quot\;Helvetica Nueue&quot\;\, Helvetica\, sans-serif\;"><span style="font-size: 14px\;">Budgeting</span></p>\n\n<p style="font-size: 0.75rem\; line-height: calc(1.5rem*var(--lineHeightFactor))\; word-break: break-word\; margin: -0.25rem 0px\; color: rgba(0\, 0\, 0\, 0.87)\; font-family: Roboto\, &quot\;Helvetica Nueue&quot\;\, Helvetica\, sans-serif\;"><span style="font-size: 14px\;">Learn about projecting your income and expenses and comparing to actuals and review the set up and management process of a budget.</span></p>\n\n<p style="font-size: 0.75rem\; line-height: calc(1.5rem*var(--lineHeightFactor))\; word-break: break-word\; margin: -0.25rem 0px\; color: rgba(0\, 0\, 0\, 0.87)\; font-family: Roboto\, &quot\;Helvetica Nueue&quot\;\, Helvetica\, sans-serif\;">&nbsp\;</p>\n\n<p style="font-size: 0.75rem\; line-height: calc(1.5rem*var(--lineHeightFactor))\; word-break: break-word\; margin: -0.25rem 0px\; color: rgba(0\, 0\, 0\, 0.87)\; font-family: Roboto\, &quot\;Helvetica Nueue&quot\;\, Helvetica\, sans-serif\;"><span style="font-size: 14px\;">Sub Customers &amp\; Projects</span></p>\n\n<p style="font-size: 0.75rem\; line-height: calc(1.5rem*var(--lineHeightFactor))\; word-break: break-word\; margin: -0.25rem 0px\; color: rgba(0\, 0\, 0\, 0.87)\; font-family: Roboto\, &quot\;Helvetica Nueue&quot\;\, Helvetica\, sans-serif\;"><span style="font-size: 14px\;">Learn how to manage projects and customers with multiple jobs. Understand the difference between Customers\, Sub-customers and Projects.</span></p>\n\n<p style="font-size: 0.75rem\; line-height: calc(1.5rem*var(--lineHeightFactor))\; word-break: break-word\; margin: -0.25rem 0px\; color: rgba(0\, 0\, 0\, 0.87)\; font-family: Roboto\, &quot\;Helvetica Nueue&quot\;\, Helvetica\, sans-serif\;">&nbsp\;</p>\n\n<p style="font-size: 0.75rem\; line-height: calc(1.5rem*var(--lineHeightFactor))\; word-break: break-word\; margin: -0.25rem 0px\; color: rgba(0\, 0\, 0\, 0.87)\; font-family: Roboto\, &quot\;Helvetica Nueue&quot\;\, Helvetica\, sans-serif\;"><span style="font-size: 14px\;">Speaker:</span></p>\n\n<p style="font-size: 0.75rem\; line-height: calc(1.5rem*var(--lineHeightFactor))\; word-break: break-word\; margin: -0.25rem 0px\; color: rgba(0\, 0\, 0\, 0.87)\; font-family: Roboto\, &quot\;Helvetica Nueue&quot\;\, Helvetica\, sans-serif\;"><span style="font-size: 14px\;">Michelle Mitchell</span></p>\n\n<p style="font-size: 0.75rem\; line-height: calc(1.5rem*var(--lineHeightFactor))\; word-break: break-word\; margin: -0.25rem 0px\; color: rgba(0\, 0\, 0\, 0.87)\; font-family: Roboto\, &quot\;Helvetica Nueue&quot\;\, Helvetica\, sans-serif\;"><span style="font-size: 14px\;">Owner\, Mitchell Consulting</span></p>\n\n<p style="font-size: 0.75rem\; line-height: calc(1.5rem*var(--lineHeightFactor))\; word-break: break-word\; margin: -0.25rem 0px\; color: rgba(0\, 0\, 0\, 0.87)\; font-family: Roboto\, &quot\;Helvetica Nueue&quot\;\, Helvetica\, sans-serif\;"><span style="font-size: 14px\;">QuickBooks ProAdvisor</span></p>\n\n<p style="font-size: 0.75rem\; line-height: calc(1.5rem*var(--lineHeightFactor))\; word-break: break-word\; margin: -0.25rem 0px\; color: rgba(0\, 0\, 0\, 0.87)\; font-family: Roboto\, &quot\;Helvetica Nueue&quot\;\, Helvetica\, sans-serif\;">&nbsp\;</p>\n\n<p style="font-size: 0.75rem\; line-height: calc(1.5rem*var(--lineHeightFactor))\; word-break: break-word\; margin: -0.25rem 0px\; color: rgba(0\, 0\, 0\, 0.87)\; font-family: Roboto\, &quot\;Helvetica Nueue&quot\;\, Helvetica\, sans-serif\;"><span style="font-size: 14px\;">&bull\; We will be unable to provide technical assistance for accessing the webinar beginning 30 minutes prior to the start of the webinar.</span></p>\n\n<p style="font-size: 0.75rem\; line-height: calc(1.5rem*var(--lineHeightFactor))\; word-break: break-word\; margin: -0.25rem 0px\; color: rgba(0\, 0\, 0\, 0.87)\; font-family: Roboto\, &quot\;Helvetica Nueue&quot\;\, Helvetica\, sans-serif\;"><span style="font-size: 14px\;">&bull\; This webinar will take place using GoToWebinar. If you have not used GoToWebinar before\, and/or would like to check the compatibility of your computer/mobile device with GoToWebinar\, please visit&nbsp\;</span><a href="https://support.goto.com/webinar/system-check-attendee" style="background-color: transparent\; text-decoration-line: none\; color: rgb(1\, 118\, 211)\; border-bottom: none\; font-size: 14px\;" target="_blank">https://support.goto.com/webinar/system-check-attendee</a><span style="font-size: 14px\;">.</span></p>\n\n<p style="font-size: 0.75rem\; line-height: calc(1.5rem*var(--lineHeightFactor))\; word-break: break-word\; margin: -0.25rem 0px\; color: rgba(0\, 0\, 0\, 0.87)\; font-family: Roboto\, &quot\;Helvetica Nueue&quot\;\, Helvetica\, sans-serif\;"><span style="font-size: 14px\;">&bull\; Reasonable accommodations for persons with disabilities will be made if requested in advance.</span></p>\n\n<p style="font-size: 0.75rem\; line-height: calc(1.5rem*var(--lineHeightFactor))\; word-break: break-word\; margin: -0.25rem 0px\; color: rgba(0\, 0\, 0\, 0.87)\; font-family: Roboto\, &quot\;Helvetica Nueue&quot\;\, Helvetica\, sans-serif\;"><span style="font-size: 14px\;">&bull\; Contact Ian Rogers at&nbsp\;<a href="mailto:rogersia@gvsu.edu" style="background-color: transparent\; text-decoration-line: none\; color: rgb(1\, 118\, 211)\; border-bottom: none\;" target="_external_l0mqurnl_">rogersia@gvsu.edu</a>.</span></p>\n
LOCATION:SBDC Webinar
UID:e.1709.38827
SEQUENCE:3
DTSTAMP:20260422T094405Z
URL:https://www.rivercountrychamber.com/events/details/quickbooks-webinar-series-38827
END:VEVENT

END:VCALENDAR
