BEGIN:VCALENDAR
VERSION:2.0
PRODID:-//ChamberMaster//Event Calendar 2.0//EN
METHOD:PUBLISH
X-PUBLISHED-TTL:P3D
REFRESH-INTERVAL:P3D
CALSCALE:GREGORIAN
BEGIN:VEVENT
DTSTART:20230325T160000Z
DTEND:20230325T220000Z
X-MICROSOFT-CDO-ALLDAYEVENT:FALSE
SUMMARY:River Country Clover Crawl 2023
DESCRIPTION:PLEASE STOP BY A REGISTRATION SPOT LISTED BELOW ON DAY OF EVENT TO SIGN UP! \n\n(PRE REGISTRATION IS CLOSED)\n\n \nAfter a super successful 2nd year\, we are excited to announce the 3rd Annual River Country Clover Crawl! A county-wide bar crawl! Celebrate the end of winter with us and support local businesses. Trolley's have been set up to take crawlers safely to participating locations listed below. Park close to home and spend the day roaming around the county!\n\n\n\nWhat's Included:\n\n\n	1 Complimentary Drink\n	Exclusive Drink Specials\n	Food Specials at Select Locations\n	Free Cover with our Lucky Badge\n	Professional Photographer\n	Exclusive Access to our Crawl Transportation\n	St. Patrick's Day Accessories\n	Parking\n\nRules: \n\n\n	Must be 21 to Participate with Valid Id upon check in. No exceptions.\n	No beverages allowed on trolley. Strictly enforced with a $250 fine. \n	If you miss the "Last Ride" back to your original destination you will be responsible for finding your own ride. Please plan accordingly.\n	Must be kind and courteous to all staff.\n	Follow posted Social Zone Guidelines when utilizing that area to consume beverages. \n	Please use crosswalk when going across M-37 in downtown Newaygo.\n	All last rides are at 5:45pm. No exceptions. This means if your car is at The Driftwood and you're at The Brewery\, you'll need to be at the Outback Social Zone by 5:45 to catch the last trolley to Croton.
X-ALT-DESC;FMTTYPE=text/html:<div style="text-align: center\;"><br />\n<strong><span style="color:#FF0000\;"><span style="font-size: 20px\;">PLEASE STOP BY A REGISTRATION SPOT </span></span></strong><span style="font-size: 20px\;"><strong><span style="color:#FF0000\;">LISTED BELOW ON DAY OF EVENT TO SIGN UP!&nbsp\;</span></strong></span></div>\n\n<div style="text-align: center\;"><strong style="text-align: center\;"><span style="color: rgb(255\, 0\, 0)\;"><span style="font-size: 20px\;">(PRE REGISTRATION IS CLOSED)</span></span></strong><br />\n&nbsp\;</div>\n<span style="font-size: 20px\;">After a super successful 2nd year\, we are excited to announce the 3rd Annual&nbsp\;<strong><span style="color: rgb(0\, 128\, 0)\;">River Country Clover Crawl!&nbsp\;</span></strong><span style="color: rgb(0\, 0\, 0)\;">A</span>&nbsp\;county-wide bar crawl! Celebrate the end of winter with us and support local businesses. Trolley&#39\;s have been set up to take crawlers safely to participating locations listed below. Park close to home and spend the day roaming around the county!<br />\n<br />\n<span style="color: rgb(0\, 128\, 0)\;">What&#39\;s Included:</span></span>\n\n<ul>\n	<li><span style="font-size: 20px\;"><span comic="" sans="" style="font-family: ">1 Complimentary Drink</span></span></li>\n	<li><span style="font-size: 20px\;"><span comic="" sans="" style="font-family: ">Exclusive Drink Specials</span></span></li>\n	<li><span style="font-size: 20px\;"><span comic="" sans="" style="font-family: ">Food Specials at Select Locations</span></span></li>\n	<li><span style="font-size: 20px\;"><span comic="" sans="" style="font-family: ">Free Cover with our Lucky Badge</span></span></li>\n	<li><span style="font-size: 20px\;"><span comic="" sans="" style="font-family: ">Professional Photographer</span></span></li>\n	<li><span style="font-size: 20px\;"><span comic="" sans="" style="font-family: ">Exclusive Access to our Crawl Transportation</span></span></li>\n	<li><span style="font-size: 20px\;"><span comic="" sans="" style="font-family: ">St. Patrick&#39\;s Day Accessories</span></span></li>\n	<li><span style="font-size: 20px\;"><span comic="" sans="" style="font-family: ">Parking</span></span></li>\n</ul>\n<span style="color: rgb(0\, 128\, 0)\;"><span style="font-size: 18px\;"><strong>Rules:&nbsp\;</strong></span></span>\n\n<ul>\n	<li><span style="font-size: 18px\;">Must be 21 to Participate with Valid Id upon check in. No exceptions.</span></li>\n	<li><span style="font-size: 18px\;">No beverages allowed on trolley. Strictly enforced with a $250 fine.&nbsp\;</span></li>\n	<li><span style="font-size: 18px\;">If you miss the &quot\;Last Ride&quot\; back to your original destination you will be responsible for finding your own ride. Please plan accordingly.</span></li>\n	<li><span style="font-size: 18px\;">Must be kind and courteous to all staff.</span></li>\n	<li><span style="font-size: 18px\;">Follow posted Social Zone Guidelines when utilizing that area to consume beverages.&nbsp\;</span></li>\n	<li><span style="font-size: 18px\;">Please use crosswalk when going across M-37 in downtown Newaygo.</span></li>\n	<li><span style="font-size: 18px\;">All last rides are at 5:45pm. No exceptions. This means if your car is at The Driftwood and you&#39\;re at The Brewery\, you&#39\;ll need to be at the Outback Social Zone by 5:45 to catch the last trolley to Croton.&nbsp\;</span></li>\n</ul>\n
LOCATION:Crawl Location (all locations have specials on drinks!) Shamrock Pub & Grill -DJ Driftwood Bar & Grill River Stop Cafe Sportsman's Bar River Stop Saloon Northern Trails Bar & Grill Newaygo Brewing Company Croton American Legion - DJ/Karaoke Trolley will be labeled in front/back of bar area Trolley 1: Newaygo Brewing Company to Northern Trails back to Newaygo Brewing Company Trolley 2: Shamrock Pub to Outback Social Zone back to Shamrock (Trolley will be parked behind River Stop Cafe) Trolley 3: Driftwood to Croton Legion to Outback Social Zone back to Driftwood (Trolley will be parked behind River Stop Saloon) Trolley 4: Outback Social Zone to Croton Legion to Driftwood back to Outback Social Zone (Trolley will be parked behind Sportsman's) *Trolley's in Downtown Newaygo will be parked behind the location. The Outback Social Zone Includes: River Stop Caf \, Sportsman's Bar\, River Stop Saloon *Newaygo Brewing Company is across the road and has a trolley pick up/drop off as well! Day of Registration: (Park your vehicle here!) Registration ends at 2pm. Event ends at 6pm Shamrock Pub & Grill\, White Cloud Driftwood Bar & Grill\, Croton The Stream -1st Floor\, Newaygo (next to Newaygo Brewing Co)
UID:e.1709.39093
SEQUENCE:3
DTSTAMP:20260424T202153Z
URL:https://www.rivercountrychamber.com/events/details/river-country-clover-crawl-2023-39093
END:VEVENT

END:VCALENDAR
