BEGIN:VCALENDAR
VERSION:2.0
PRODID:-//ChamberMaster//Event Calendar 2.0//EN
METHOD:PUBLISH
X-PUBLISHED-TTL:P3D
REFRESH-INTERVAL:P3D
CALSCALE:GREGORIAN
BEGIN:VEVENT
DTSTART:20260314T160000Z
DTEND:20260314T220000Z
X-MICROSOFT-CDO-ALLDAYEVENT:FALSE
SUMMARY:River Country Clover Crawl 2026
DESCRIPTION:*Only proceed to online registration if you are at a check in point to confirm with volunteer.\n\n\n\n \n\n\n\nJoin in the Fun at the 6th Annual River Country Clover Crawl!\n\nWinter is finally coming to a close\, and we're hosting our 6th annual bar crawl to celebrate! Come show your support for local businesses and enjoy the festivities. For your safety\, trolleys have been arranged to transport participants to all the exciting locations listed below. So park your car nearby and make a day of it!\n\n\n\n Sponsor! Click here to see how your business can be a part of this event.\n\n Check out video and photos from Clover Crawl 2025 thanks to Brittlynn of Hype Sports Studio photography! \n\n Volunteer! Click here to sign up to help with the event!\nWhat's Included:\n\n\n	1 Complimentary Drink \n	Drink Specials\n	Food Specials at Select Locations\n	Free Cover with our Lucky Badge\n	Professional Photographer\n	Exclusive Access to our Crawl Transportation\n	St. Patrick's Day Accessories\n	Parking\n\n  Rules: \n\n\n	Must be 21 to Participate with Valid Id upon check in. No exceptions. (May not check in for other guests.)\n	No beverages allowed on trolley. Strictly enforced with a $250 fine. \n	If you miss the "Last Ride" back to your original destination you will be responsible for finding your own ride. Please plan accordingly.\n	Must be kind and courteous to all staff.\n	Follow posted Social Zone Guidelines when utilizing that area to consume beverages. \n	Please use crosswalk when going across M-37 in downtown Newaygo.\n	All last rides are at 5:45pm. No exceptions. \n	Social Zone Information\n\n Crawl Locations (all locations have specials on drinks!)\n\n(Locations are updates as they're confirmed.)\n\nNewaygo Old Town Tavern (The NOTT) \n\nOld Iron Bar & Grill\n\nRiver Stop Saloon\n\nWhite Cloud Eagles\n\nSmuggler's at North Shore (*Smuggler's at North Shore ends at 5:00pm)\n\nWalter F. Howarth American Legion Post 381\n\nSportsman's Bar\n\nDriftwood Bar and Grill\n\nNorthern Trails Bar and Grill\n\nRiver Stop Cafe\n\nNewaygo Brewing Company\n\n\n\nSee the Facebook event for more specials!
X-ALT-DESC;FMTTYPE=text/html:<p --font-size:="" --line-height:="" class="cvGsUA direction-ltr align-center para-style-body" line-height:="" style="color: rgb(0\, 0\, 0)\;" text-align:="" yadk4cvoukc=""><span style="font-family: arial\; font-size: 16px\; text-align: left\;"><strong><span style="color:#FF0000\;">*Only proceed to online registration if you are at a check in point to confirm with volunteer.</span></strong></span><br />\n<br />\n&nbsp\;</p>\n\n<p --font-size:="" --line-height:="" class="cvGsUA direction-ltr align-center para-style-body" line-height:="" style="color: rgb(0\, 0\, 0)\;" text-align:="" yadk4cvoukc=""><br />\n<span style="font-family: arial\; font-size: 16px\; text-align: left\;">Join in the Fun at the 6th Annual </span><strong style="font-family: arial\; font-size: 16px\; text-align: left\;"><span style="color:#009900\;">River Country Clover Crawl</span></strong><span style="font-family: arial\; font-size: 16px\; text-align: left\;">!</span></p>\n\n<p --font-size:="" --line-height:="" class="cvGsUA direction-ltr align-center para-style-body" line-height:="" style="color: rgb(0\, 0\, 0)\; text-align: left\;" text-align:="" yadk4cvoukc=""><span style="font-size:16px\;"><span style="font-family:arial\;"><span class="OYPEnA text-decoration-none text-strikethrough-none">Winter is finally coming to a close\, and we&#39\;re hosting our 6th annual bar crawl to celebrate! Come show your support for local businesses and enjoy the festivities. For your safety\, trolleys have been arranged to transport participants to all the exciting locations listed below. So park your car nearby and make a day of it!</span></span></span><br />\n<br />\n<a href="https://chambermaster.blob.core.windows.net/userfiles/UserFiles/chambers/1709/File/2026_SPONSORSHIP/CloverCrawlSponsorship.pdf"><span style="font-size:16px\;"><strong>&#9658\;Sponsor!</strong> Click here to see how your business can be a part of this event.</span></a><br />\n<a href="https://hypesportsstudio.pixieset.com/2025clovercrawl/"><span style="font-size:14px\;">&#9658\;Check out <strong>video and photos </strong>from Clover Crawl 2025 thanks to Brittlynn of Hype Sports Studio photography!</span></a><a href="https://signup.com/go/jJgCWby"><span style="font-size:14px\;">&#8203\;</span></a><br />\n<span style="font-size:14px\;"><a href="https://hypesportsstudio.pixieset.com/2025clovercrawl/">&#9658\;</a><a href="https://signup.com/go/jJgCWby"><strong>Volunteer!</strong> Click here to sign up to help with the event!</a></span></p>\n<strong><span style="font-size:16px\;"><span style="font-family:arial\;"><span style="color: rgb(0\, 128\, 0)\;">What&#39\;s Included:</span></span></span></strong>\n\n<ul>\n	<li><span style="font-size:16px\;"><span style="font-family:arial\;"><span comic="" sans="">1 Complimentary Drink&nbsp\;</span></span></span></li>\n	<li><span style="font-size:16px\;"><span style="font-family:arial\;"><span comic="" sans="">Drink Specials</span></span></span></li>\n	<li><span style="font-size:16px\;"><span style="font-family:arial\;"><span comic="" sans="">Food Specials at Select Locations</span></span></span></li>\n	<li><span style="font-size:16px\;"><span style="font-family:arial\;"><span comic="" sans="">Free Cover with our Lucky Badge</span></span></span></li>\n	<li><span style="font-size:16px\;"><span style="font-family:arial\;"><span comic="" sans="">Professional Photographer</span></span></span></li>\n	<li><span style="font-size:16px\;"><span style="font-family:arial\;"><span comic="" sans="">Exclusive Access to our Crawl Transportation</span></span></span></li>\n	<li><span style="font-size:16px\;"><span style="font-family:arial\;"><span comic="" sans="">St. Patrick&#39\;s Day Accessories</span></span></span></li>\n	<li><span style="font-size:16px\;"><span style="font-family:arial\;"><span comic="" sans="">Parking</span></span></span></li>\n</ul>\n<span style="font-size:16px\;"> <span style="font-family:arial\;"> <span style="color: rgb(0\, 128\, 0)\;"><strong>Rules:&nbsp\;</strong></span></span></span>\n\n<ul>\n	<li><span style="font-size:16px\;"><span style="font-family:arial\;">Must be 21 to Participate with Valid Id upon check in. No exceptions. (May not check in for other guests.)</span></span></li>\n	<li><span style="font-size:16px\;"><span style="font-family:arial\;">No beverages allowed on trolley. Strictly enforced with a $250 fine.&nbsp\;</span></span></li>\n	<li><span style="font-size:16px\;"><span style="font-family:arial\;">If you miss the &quot\;Last Ride&quot\; back to your original destination you will be responsible for finding your own ride. Please plan accordingly.</span></span></li>\n	<li><span style="font-size:16px\;"><span style="font-family:arial\;">Must be kind and courteous to all staff.</span></span></li>\n	<li><span style="font-size:16px\;"><span style="font-family:arial\;">Follow posted Social Zone Guidelines when utilizing that area to consume beverages.&nbsp\;</span></span></li>\n	<li><span style="font-size:16px\;"><span style="font-family:arial\;">Please use crosswalk when going across M-37 in downtown Newaygo.</span></span></li>\n	<li><span style="font-size:16px\;"><span style="font-family:arial\;">All last rides are at 5:45pm. No exceptions.&nbsp\;</span></span></li>\n	<li><a href="https://www.rivercountrychamber.com/events/details/downtown-newaygo-s-social-district-the-outback-42924"><span style="font-size:16px\;"><span style="font-family:arial\;">Social Zone Information</span></span></a></li>\n</ul>\n<span style="font-size:16px\;"> <span style="color:#008000\;"><b style="font-size: 18px\;">Crawl Locations (all locations have specials on drinks!)</b></span></span><br />\n(Locations are updates as they&#39\;re confirmed.)<br />\n<span style="font-family:verdana\;"><span style="font-size:14px\;"><a href="https://www.facebook.com/profile.php?id=61573881732430">Newaygo Old Town Tavern (The NOTT)&nbsp\;</a><br />\n<a href="https://www.facebook.com/oldiron.bargrill.9">Old Iron Bar &amp\; Grill</a><br />\n<a href="https://www.facebook.com/riverstopsaloon">River Stop Saloon</a><br />\n<a href="https://www.facebook.com/WhiteCloudEagles4170">White Cloud Eagles</a><br />\n<a href="https://www.facebook.com/smugglersatnorthshore">Smuggler&#39\;s at North Shore</a>&nbsp\;(</span></span>*Smuggler&#39\;s at North Shore ends at 5:00pm)<br />\n<span style="font-family:verdana\;"><span style="font-size:14px\;"><a href="https://www.facebook.com/profile.php?id=61554675865648">Walter F. Howarth American Legion Post 381</a><br />\n<a href="https://www.facebook.com/sportsmans.bar.18">Sportsman&#39\;s Bar</a><br class="html-br" font-size:="" segoe="" style="color: rgb(8\, 8\, 9)\; font-family: " ui="" />\n<a href="https://www.facebook.com/driftwoodbarngrill">Driftwood Bar and Grill</a><br />\n<a href="https://www.facebook.com/NorthernTrailsBarandGrill">Northern Trails Bar and Grill</a><br />\n<a href="https://www.facebook.com/TheRiverStopCafe">River Stop Cafe</a><br />\n<a href="https://www.facebook.com/newaygobrewingco">Newaygo Brewing Company</a></span></span><br />\n<br />\n<span style="font-size: 16px\;">See the Facebook event for more specials!&nbsp\;</span><br />\n&nbsp\;
LOCATION:Day of Registration: (Park your vehicle here!) Registration begins at 11:30A & ends at 2:00P. Event ends at 6pm Old Iron Bar & Grill Newaygo Brewing Company Northern Trails Smuggler's at North Shore (*Smuggler's at North Shore ends at 5:00pm) White Cloud Eagles Trolley Routes All routes run in continuous loops\, so wherever you start is also where you'll end up. Let's say Jake and Jen check in at the White Cloud Eagles. They hop on the trolley and ride it over to Newaygo Brewing Company to kick off the afternoon with some cheezy breadsticks. When they're ready to explore\, they use the crosswalk to safely cross M-37 and suddenly they've got four great bars within walking distance. They wander into Sporty's\, grab a cold Michelob Ultra\, and after a few laughs decide they want to keep the adventure going at Northern Trails. No problem. They stroll over to River Stop Saloon\, catch the trolley there\, and ride it straight to their next stop. Easy hopping\, no driving\, and the fun just keeps looping all night. 1.) White Cloud Eagles - Newaygo Brewing Company 2.) Northern Trails Bar & Grill - Driftwood Bar & Grill - Croton American Legion - River Stop Saloon 3.) Old Iron Bar & Grill - Smuggler's at North Shore - River Stop Cafe 4.) Sportsman's Bar - Driftwood Bar & Grill - Croton American Legion - River Stop Saloon You can try as many loops as you'd like in the event time frame! Routes run in continuous loops. FAQ: Can I check in for a friend? Sorry\, no! Each guest has to show valid ID upon check in\, no exceptions. Is registration open day of? Yes! There's still time to sign up. Just check in at a registration spot - $40 each. Can I go on multiple trolleys? Yes! We hope you do! Can we dress up? We hope so! We love seeing our guests in festive gear. We will also have some beaded necklaces\, too. How do I get back to my car? This part can be tricky. My suggestion is to set a timer for 5:40pm and make a plan. All last trolley rides are at approx. 5:45pm. When does the event end? The Clover Crawl ends at 6pm\, (with the exception of Smugglers ending at 5pm) which means no more trolleys! However\, we encourage our guests to continue their fun. A lot of the bars have specials and fun stuff to stick around for! Affordable Limousine is only contracted until 6pm. They can not keep making loops. Please plan accordingly. TIP: Use cash as you go! Then you won't have to wait to cash out a tab to get on the trolley. We are all here to have fun! Please be respectful of other Crawlers\, our drivers and staff! *If you need a sober driver\, please call 231-652-3068 and we can help make arrangements for you. Please drink responsibly. Chamber Policies
UID:e.1709.43055
SEQUENCE:3
DTSTAMP:20260421T052717Z
URL:https://www.rivercountrychamber.com/events/details/river-country-clover-crawl-2026-43055
END:VEVENT

END:VCALENDAR
