BEGIN:VCALENDAR
VERSION:2.0
PRODID:-//ChamberMaster//Event Calendar 2.0//EN
METHOD:PUBLISH
X-PUBLISHED-TTL:P3D
REFRESH-INTERVAL:P3D
CALSCALE:GREGORIAN
BEGIN:VEVENT
DTSTART:20140214T230000Z
DTEND:20140215T023000Z
X-MICROSOFT-CDO-ALLDAYEVENT:FALSE
SUMMARY:River Stop Cafe "Jazz by Candleight Series" for Valentines' Day 2014
DESCRIPTION:Looking for something local\, different and more than a little exciting for Valentines' Day?  The River Stop Caf  has a solution we hope you will love:  You may already know that the caf  offers  evening table service\, a full beer\, wine\, and premium liquor list\, and an expanding dinner menu.  We are heating up Valentine's Day by adding the best live music the Midwest has to offer\, along with reserved seating!  Only eight private tables are available for - Caf  Jazz by Candlelight!\n\n	\n\n	 \n\n	Social Hour begins at 6:00 with live music from Organissimo\, one of our nation's premier jazz trios\, featuring West Michigan's own  master percussionist Randy Marsh.  Each reserved\, private  table will have a welcome appetizer to share\, followed by soup or salad\, a plated dinner of your choice \, and dessert!  Dinner will be served starting around  6:30- 7:00.  Music will continue until 9:30 or later..\n\n	\n\n	Reserve your favorite table(or barstool) -it's yours for the evening!  Only whole tables can be reserved.  Be sure to book a table as close to the music as you like!
X-ALT-DESC;FMTTYPE=text/html:<p style="margin: 0in 0in 0pt\;">\n	&nbsp\;</p>\n<p style="margin: 0in 0in 0pt\;">\n	<font color="#000000" face="Calibri" size="3">Looking for something local\, different and more than a little exciting for Valentines&rsquo\; Day?<span style="mso-spacerun: yes\;">&nbsp\; </span>The River Stop Caf&eacute\; has a solution we hope you will love: <span style="mso-spacerun: yes\;">&nbsp\;</span>You may already know that the caf&eacute\; offers <span style="mso-spacerun: yes\;">&nbsp\;</span>evening table service\, a full beer\, wine\, and premium liquor list\, and an expanding dinner menu.<span style="mso-spacerun: yes\;">&nbsp\; </span>We are heating up Valentine&#39\;s Day by adding the best live music the Midwest has to offer\, along with reserved seating!<span style="mso-spacerun: yes\;">&nbsp\; </span>Only eight private tables are available for - Caf&eacute\; Jazz by Candlelight!</font><br />\n	<br />\n	&nbsp\;</p>\n<p style="margin: 0in 0in 0pt\;">\n	<font color="#000000" face="Calibri" size="3">Social Hour begins at 6:00 with live music from Organissimo\, one of our nation&#39\;s premier jazz trios\, featuring West Michigan&#39\;s own<span style="mso-spacerun: yes\;">&nbsp\; </span>master percussionist Randy Marsh.<span style="mso-spacerun: yes\;">&nbsp\; </span>Each reserved\, private<span style="mso-spacerun: yes\;">&nbsp\; </span>table will have a welcome appetizer to share\, followed by soup or salad\, a plated dinner of your choice \, and dessert!<span style="mso-spacerun: yes\;">&nbsp\; </span>Dinner will be served starting around <span style="mso-spacerun: yes\;">&nbsp\;</span>6:30- 7:00.<span style="mso-spacerun: yes\;">&nbsp\; </span>Music will continue until 9:30 or later..<br type="_moz" />\n	<br />\n	<span style="font-family: &quot\;Calibri&quot\;\,&quot\;sans-serif&quot\;\; font-size: 11pt\; mso-ascii-theme-font: minor-latin\; mso-fareast-font-family: Calibri\; mso-fareast-theme-font: minor-latin\; mso-hansi-theme-font: minor-latin\; mso-bidi-font-family: &quot\;Times New Roman&quot\;\; mso-bidi-theme-font: minor-bidi\; mso-ansi-language: EN-US\; mso-fareast-language: EN-US\; mso-bidi-language: AR-SA\;">Reserve your favorite table(or barstool) -it&rsquo\;s yours for the evening! &nbsp\;<i style="mso-bidi-font-style: normal\;">Only whole tables can be reserved.</i><span style="mso-spacerun: yes\;">&nbsp\; </span>Be sure to book a table as close to the music as you like!</span></font><br />\n	<br />\n	&nbsp\;</p>\n<p style="margin: 0in 0in 0pt\;">\n	&nbsp\;</p>\n<p style="margin: 0in 0in 0pt\;">\n	&nbsp\;</p>\n
LOCATION:River Stop Caf 52 State Road Downtown Newaygo!
UID:e.1709.565
SEQUENCE:3
DTSTAMP:20260420T165500Z
URL:https://www.rivercountrychamber.com/events/details/river-stop-cafe-jazz-by-candleight-series-for-valentines-day-2014-02-14-2014-565
END:VEVENT

END:VCALENDAR
