BEGIN:VCALENDAR
VERSION:2.0
PRODID:-//ChamberMaster//Event Calendar 2.0//EN
METHOD:PUBLISH
X-PUBLISHED-TTL:P3D
REFRESH-INTERVAL:P3D
CALSCALE:GREGORIAN
BEGIN:VEVENT
DTSTART:20220608T213000Z
DTEND:20220609T003000Z
X-MICROSOFT-CDO-ALLDAYEVENT:FALSE
SUMMARY:Rockin' Rotary Park June 2022
DESCRIPTION:Rockin' Rotary Park is a free\, family friendly Summer Concert Series. Enjoy a live band on the 2nd Wednesday of the month June - September! Bring a chair\, your neighbors\, family and friends to relax in beautiful Rotary Park!\n\n \n\n	Park does include a paved pathway\, river\, slide and swings.\n	Portable restroom on site.\n	Food will be offered by a local organization.
X-ALT-DESC;FMTTYPE=text/html:<span style="font-size:18px\;"><strong>Rockin&#39\; Rotary Park</strong> is a free\, family friendly Summer Concert Series. Enjoy a live band on the 2nd Wednesday of the month June - September! Bring a chair\, your neighbors\, family and friends to relax in beautiful Rotary Park!</span><br />\n&nbsp\;\n<ul>\n	<li><span style="font-size:18px\;">Park does include a paved pathway\, river\, slide and swings.</span></li>\n	<li><span style="font-size:18px\;">Portable restroom on site.</span></li>\n	<li><span style="font-size:18px\;">Food will be offered by a local organization.</span></li>\n</ul>\n<br />\n&nbsp\;
LOCATION:Rotary Park\, White Cloud Turn East at the Wesco in White Cloud. About 2 blocks and you'll take a right. Please reserve closest parking lot for handicap access. There is a lot on the corner and more parking available across from the park (Mill Pond) DIRECTIONS: ONLINE MAP: ENTER "CITY OF WHITE CLOUD ROTARY PARK" Located just East of the Wesco in White Cloud PARKING Vehicles are not allowed to enter park pathway (except for the band)\, Please reserve top parking lot for handicap accessibility. Parking on the corner of E James & S State St and across from the Mill Pond on S State St
UID:e.1709.38851
SEQUENCE:3
DTSTAMP:20260422T063702Z
URL:https://www.rivercountrychamber.com/events/details/rockin-rotary-park-june-2022-38851
END:VEVENT

END:VCALENDAR
