BEGIN:VCALENDAR
VERSION:2.0
PRODID:-//ChamberMaster//Event Calendar 2.0//EN
METHOD:PUBLISH
X-PUBLISHED-TTL:P3D
REFRESH-INTERVAL:P3D
CALSCALE:GREGORIAN
BEGIN:VEVENT
DTSTART:20230603T120000Z
DTEND:20230603T174500Z
X-MICROSOFT-CDO-ALLDAYEVENT:FALSE
SUMMARY:Russell Gilbert Kids Free Fishing Day
DESCRIPTION:Save the Date - More information to come!
X-ALT-DESC;FMTTYPE=text/html:Save the Date - More information to come!
LOCATION:
UID:e.1709.39168
SEQUENCE:3
DTSTAMP:20260420T232752Z
URL:https://www.rivercountrychamber.com/events/details/russell-gilbert-kids-free-fishing-day-39168
END:VEVENT

END:VCALENDAR
