BEGIN:VCALENDAR
VERSION:2.0
PRODID:-//ChamberMaster//Event Calendar 2.0//EN
METHOD:PUBLISH
X-PUBLISHED-TTL:P3D
REFRESH-INTERVAL:P3D
CALSCALE:GREGORIAN
BEGIN:VEVENT
DTSTART:20260505T150000Z
DTEND:20260505T210000Z
X-MICROSOFT-CDO-ALLDAYEVENT:FALSE
SUMMARY:Sample a Taste of Cinco de Mayo
DESCRIPTION:Sample a Taste of Cinco de Mayo at Newaygo Library on Tuesday\, May 5\, from 11:00AM - 5:00PM! ????\n\n\n\nStop in and celebrate Cinco De Mayo while enjoying sample-sized portions of delicious walking tacos.\n\n\n\nIt's a fun and tasty way to join in the celebration!\n\n\n\nWHILE SUPPLIES LAST.\n\n\n\nLocated on the upper level of the library.\n\n\n\nWould you like to be notified by text of Newaygo Library events?\n\nSign up for our events reminder program!\n\n"Remind" will send out a text and email about events going on at Newaygo Library.\n\nTo sign up\, go to: remind.com/join/1915nadl\n\nor Text - @1915nadl to 81010
X-ALT-DESC;FMTTYPE=text/html:<br />\nSample a Taste of Cinco de Mayo at Newaygo Library on Tuesday\, May 5\, from 11:00AM - 5:00PM! ????<br />\n<br />\nStop in and celebrate Cinco De Mayo while enjoying sample-sized portions of delicious walking tacos.<br />\n<br />\nIt&rsquo\;s a fun and tasty way to join in the celebration!<br />\n<br />\nWHILE SUPPLIES LAST.<br />\n<br />\nLocated on the upper level of the library.<br />\n<br />\nWould you like to be notified by text of Newaygo Library events?<br />\nSign up for our events reminder program!<br />\n&quot\;Remind&quot\; will send out a text and email about events going on at Newaygo Library.<br />\nTo sign up\, go to:&nbsp\;remind.com/join/1915nadl<br />\nor Text - @1915nadl to 81010
LOCATION:Newaygo Area District Library 44 N. State Rd. Newaygo\, MI 49337
UID:e.1709.43176
SEQUENCE:3
DTSTAMP:20260423T201535Z
URL:https://www.rivercountrychamber.com/events/details/sample-a-taste-of-cinco-de-mayo-43176
END:VEVENT

END:VCALENDAR
