BEGIN:VCALENDAR
VERSION:2.0
PRODID:-//ChamberMaster//Event Calendar 2.0//EN
METHOD:PUBLISH
X-PUBLISHED-TTL:P3D
REFRESH-INTERVAL:P3D
CALSCALE:GREGORIAN
BEGIN:VEVENT
DTSTART:20131207T210000Z
DTEND:20131208T010000Z
X-MICROSOFT-CDO-ALLDAYEVENT:FALSE
SUMMARY:Santa and S'mores @ Camp Newaygo
DESCRIPTION:This event is ideal for the little ones as you and your family will visit with Santa Claus at Camp Newaygo?s North Pole! You?ll start your woodland trip by greeting Santa?s reindeer at their stables (yes\, actual reindeer) then take a peek inside Santa?s toy shop where the elves are busy at work\, and finish your journey at Lang Lodge where you can talk to Santa and warm up around the fireplace then head out to the campfire to roast a marshmallow and make a s?more. The cost is only $4 per person or $15 for families of four. No pre-registration is necessary ? simply pay at the door
X-ALT-DESC;FMTTYPE=text/html:This event is ideal for the little ones as you and your family will visit with Santa Claus at Camp Newaygo?s North Pole! You?ll start your woodland trip by greeting Santa?s reindeer at their stables (yes\, actual reindeer) then take a peek inside Santa?s toy shop where the elves are busy at work\, and finish your journey at Lang Lodge where you can talk to Santa and warm up around the fireplace then head out to the campfire to roast a marshmallow and make a s?more. The cost is only $4 per person or $15 for families of four. No pre-registration is necessary ? simply pay at the door
LOCATION:Camp Newaygo. 5333 CenterlineRd.\, Newaygo\, MI 49337
UID:e.1709.531
SEQUENCE:3
DTSTAMP:20260420T194135Z
URL:https://www.rivercountrychamber.com/events/details/santa-and-s-mores-camp-newaygo-12-07-2013-531
END:VEVENT

END:VCALENDAR
