BEGIN:VCALENDAR
VERSION:2.0
PRODID:-//ChamberMaster//Event Calendar 2.0//EN
METHOD:PUBLISH
X-PUBLISHED-TTL:P3D
REFRESH-INTERVAL:P3D
CALSCALE:GREGORIAN
BEGIN:VEVENT
DTSTART:20131213T233000Z
DTEND:20131214T010000Z
X-MICROSOFT-CDO-ALLDAYEVENT:FALSE
SUMMARY:Santa Story Book hosted by Family Health Care
DESCRIPTION:Family Health Care welcomes Santa to Santa Story Book\; usually the 1st Saturday in December this year's event is on Friday December 13 and will provide activities for Children and families while waiting for Santa to present each child with an age appropriate book
X-ALT-DESC;FMTTYPE=text/html:<br />\n<span style="font-size:18px\;"><span style="font-family:arial\;">Family Health Care welcomes Santa to Santa Story Book\; usually the 1<sup>st</sup> Saturday in December this year&rsquo\;s event is on Friday December 13 and will provide activities for Children and families while waiting for Santa to present each child with an age appropriate book<br />\n&nbsp\;</span></span><br />\n
LOCATION:White Cloud Upper Elementary
UID:e.1709.484
SEQUENCE:3
DTSTAMP:20260420T194500Z
URL:https://www.rivercountrychamber.com/events/details/santa-story-book-hosted-by-family-health-care-12-13-2013-484
END:VEVENT

END:VCALENDAR
