BEGIN:VCALENDAR
VERSION:2.0
PRODID:-//ChamberMaster//Event Calendar 2.0//EN
METHOD:PUBLISH
X-PUBLISHED-TTL:P3D
REFRESH-INTERVAL:P3D
CALSCALE:GREGORIAN
BEGIN:VEVENT
DTSTART:20130620T130000Z
DTEND:20130620T170000Z
X-MICROSOFT-CDO-ALLDAYEVENT:FALSE
SUMMARY:Senior & Caregivers Expo\, Hosted by Senior Coordinating Council
DESCRIPTION:In many rural areas around the country\, it is difficult for many seniors to find information or learn about the services available to them. This is also true here in Newaygo County\, where many seniors have no phone service\, let alone internet access and necessary Smartphone or computers to access the latest and best information of interest and concern to them.\n\n \n\nThe Senior and Caregiver Expo provides you a one-stop place to come and get the information seniors want and need.  It is designed for both seniors and their caregivers\, and provides a wealth of information from service agencies and businesses alike.  In addition to classes of interest to seniors\, there are also a wide array of products and services for your review in a no-pressure environment.\n\n \n\nImportantly\, 2013 is the first year the Newaygo Area Chamber of Commerce has been active in the planning of this important community event\, encouraging businesses that are deeply connected to the needs of seniors to attend. The Newaygo Area Chamber of Commerce would like to encourage all Newaygo County seniors and their caregivers to attend this unique and informative event! \n\n \n\nClick for a link to the event program\n\n\n\nIf you have questions regarding this event\, please contact Charlie Johnson\, LifeLink Coordinator\, TrueNorth Community Services at (231) 924-0641\, ext. 136
X-ALT-DESC;FMTTYPE=text/html:<span style="color:#1f497d\;">In many rural areas around the country\, it is difficult for many seniors to find information or learn about the services available to them. This is also true here in Newaygo County\, where many seniors have no phone service\, let alone internet access and necessary Smartphone or computers to access the latest and best information of interest and concern to them.</span><br />\n&nbsp\;<br />\n<span style="color:#1f497d\;">The Senior and Caregiver Expo provides you a one-stop place to come and get the information seniors want and need.&nbsp\; It is designed for both seniors and their caregivers\, and provides a wealth of information from service agencies and businesses alike.&nbsp\; In addition to classes of interest to seniors\, there are also a wide array of products and services for your review in a no-pressure environment.</span><br />\n&nbsp\;<br />\n<span style="color:#1f497d\;">Importantly\, 2013 is the first year the Newaygo Area Chamber of Commerce has been active in the planning of this important community event\, encouraging businesses that are deeply connected to the needs of seniors to attend. The Newaygo Area Chamber of Commerce would like to encourage all Newaygo County seniors and their caregivers to attend this unique and informative event! </span><br />\n&nbsp\;<br />\n<a href="http://cloud.chambermaster.com/userfiles/UserFiles/chambers/1709/File/Program2013FinalVersion.pdf"><strong><span style="font-size:16px\;">Click for a link to the event program</span></strong></a><br />\n<br />\n<span style="color:#1f497d\;">If you have questions regarding this event\, please contact Charlie Johnson\, LifeLink Coordinator\, TrueNorth Community Services at (231) 924-0641\, ext. 136</span>
LOCATION:Providence Christian High School 5479 W 72nd St Fremont\, MI 49412
UID:e.1709.21
SEQUENCE:3
DTSTAMP:20260421T032013Z
URL:https://www.rivercountrychamber.com/events/details/senior-caregivers-expo-hosted-by-senior-coordinating-council-06-20-2013-21
END:VEVENT

END:VCALENDAR
